BEGIN:VCALENDAR
PRODID:NingEventWidget-v1
VERSION:2.0
METHOD:PUBLISH
BEGIN:VTIMEZONE
TZID:Pacific/Midway
X-LIC-LOCATION:Pacific/Midway
BEGIN:STANDARD
TZOFFSETFROM:-1100
TZOFFSETTO:-1100
TZNAME:SST
DTSTART:19700101T000000
END:STANDARD
END:VTIMEZONE
BEGIN:VEVENT
UID:5072275:Event:557133
DTSTAMP:20260423T142141Z
SUMMARY:NC Quarter Midget Assoc. Car Show - Salisbury, NC
DESCRIPTION:NC Quarter Midget Assoc. Car Show - Salisbury, NC\nHeld at
  the NCQMA Speedway\n\n\nFor more information visit https://www.southe
 astwheelsevents.com/events/nc-quarter-midget-assoc-car-show-salisbury-
 nc
DTSTART;TZID=Pacific/Midway:20120908T100000
DTEND;TZID=Pacific/Midway:20120908T140000
CATEGORIES:car-show
LOCATION:NCQMA Speedway
WEBSITE:http://www.ncqma.com
URL:http://www.ncqma.com
CONTACT:704-637-1099
ORGANIZER:NCQMA Speedway
ATTACH;FMTTYPE="image/jpeg":http://storage.ning.com/topology/rest/1.0/
 file/get/967625552?profile=original
ATTENDEE;ROLE=REQ-PARTICIPANT;PARTSTAT=ACCEPTED;RSVP=TRUE;CN="Michael 
 Thies":https://www.southeastwheelsevents.com/profile/MichaelThies
END:VEVENT
END:VCALENDAR
