BEGIN:VCALENDAR
PRODID:NingEventWidget-v1
VERSION:2.0
METHOD:PUBLISH
BEGIN:VTIMEZONE
TZID:Pacific/Midway
X-LIC-LOCATION:Pacific/Midway
BEGIN:STANDARD
TZOFFSETFROM:-1100
TZOFFSETTO:-1100
TZNAME:SST
DTSTART:19700101T000000
END:STANDARD
END:VTIMEZONE
BEGIN:VEVENT
UID:5072275:Event:1024465
DTSTAMP:20260423T105630Z
SUMMARY:North East GA Swap Meet -Commerce, GA
DESCRIPTION:The NE Georgia Swap Meet is held the first Saturday of eve
 ry month, year-round.\nVendor set-up is 7am, gates open to the public 
 at 8:30.\nSpaces are as big as you want, for one low price.\nGates ope
 n at 7am, and it wraps up around 1pm.\nFor information, send an email 
 to brad56@windstream.net.\n\nFor more information visit https://www.so
 utheastwheelsevents.com/events/ne-ga-swap-meet-1
DTSTART;TZID=Pacific/Midway:20170204T070000
DTEND;TZID=Pacific/Midway:20170204T130000
CATEGORIES:swap, meet
LOCATION:Atlanta Dragway
WEBSITE:http://negeorgiaswapmeet.com
URL:http://negeorgiaswapmeet.com
CONTACT:(706) 424-5035
ORGANIZER;CN="Brad Ocock":https://www.southeastwheelsevents.com/profil
 e/BradOcock
ATTACH;FMTTYPE="image/jpeg":http://storage.ning.com/topology/rest/1.0/
 file/get/967717865?profile=original
ATTENDEE;ROLE=REQ-PARTICIPANT;PARTSTAT=ACCEPTED;RSVP=TRUE;CN="Michael 
 Thies":https://www.southeastwheelsevents.com/profile/MichaelThies
ATTENDEE;ROLE=REQ-PARTICIPANT;PARTSTAT=ACCEPTED;RSVP=TRUE;CN="Robert D
 . sauer":https://www.southeastwheelsevents.com/profile/RobertDsauer
ATTENDEE;ROLE=REQ-PARTICIPANT;PARTSTAT=ACCEPTED;RSVP=TRUE;CN="Chuck Aa
 ron":https://www.southeastwheelsevents.com/profile/ChuckAaron886
ATTENDEE;ROLE=REQ-PARTICIPANT;PARTSTAT=ACCEPTED;RSVP=TRUE;CN="Brad Oco
 ck":https://www.southeastwheelsevents.com/profile/BradOcock
ATTENDEE;ROLE=REQ-PARTICIPANT;PARTSTAT=TENTATIVE;RSVP=TRUE;CN="Robert 
 Gates":https://www.southeastwheelsevents.com/profile/RobertGates
END:VEVENT
END:VCALENDAR
