BEGIN:VCALENDAR
PRODID:NingEventWidget-v1
VERSION:2.0
METHOD:PUBLISH
BEGIN:VTIMEZONE
TZID:Pacific/Midway
X-LIC-LOCATION:Pacific/Midway
BEGIN:STANDARD
TZOFFSETFROM:-1100
TZOFFSETTO:-1100
TZNAME:SST
DTSTART:19700101T000000
END:STANDARD
END:VTIMEZONE
BEGIN:VEVENT
UID:5072275:Event:620618
DTSTAMP:20260420T193342Z
SUMMARY:NE Georgia Swap Meet, March 2
DESCRIPTION:NE Georgia Swap Meet starts its season next Saturday, Marc
 h 2 at The Atlanta Dragway in Commerce, Georgia.\n \nThis show has be
 en growing, with between 140-160 vendors for the last half of 2012, an
 d big spectator crowds.\n \nVendor spaces are only $20 for all the sp
 ace you want.\nSpectator entry is just $5, with free parking.\n \nVen
 dor set-up is 7am, gates open to the public at 8:30, and the show star
 ts wrapping up around 1 or 1:30.\n \n \nI-85 to Exit 149/Hwy 441. Go
  West/North West on 441 to the first light; Left at the light. Take th
 e first RIGHT after the light, and the track is on the right hand side
 .\n \nIf you’d like to be added to our monthly email reminder list,
  send an email to: brad56@windstream.net\n \nIf you've got any questi
 ons, or need directions, call (706) 424-5035, check us out on FaceBook
  at North East Georgia Swap Meet, or our website: georgiaswapmeet.com\
 n\nFor more information visit https://www.southeastwheelsevents.com/ev
 ents/ne-georgia-swap-meet-march-2
DTSTART;TZID=Pacific/Midway:20130302T070000
DTEND;TZID=Pacific/Midway:20130302T130000
CATEGORIES:swap, meet
LOCATION:Atlanta Dragway
WEBSITE:http://georgiaswapmeet.com
URL:http://georgiaswapmeet.com
CONTACT:(706) 424-5035
ORGANIZER;CN="Brad Ocock":https://www.southeastwheelsevents.com/profil
 e/BradOcock
ATTACH;FMTTYPE="image/jpeg":
ATTENDEE;ROLE=REQ-PARTICIPANT;PARTSTAT=ACCEPTED;RSVP=TRUE;CN="Brad Oco
 ck":https://www.southeastwheelsevents.com/profile/BradOcock
END:VEVENT
END:VCALENDAR
