BEGIN:VCALENDAR
PRODID:NingEventWidget-v1
VERSION:2.0
METHOD:PUBLISH
BEGIN:VTIMEZONE
TZID:Pacific/Midway
X-LIC-LOCATION:Pacific/Midway
BEGIN:STANDARD
TZOFFSETFROM:-1100
TZOFFSETTO:-1100
TZNAME:SST
DTSTART:19700101T000000
END:STANDARD
END:VTIMEZONE
BEGIN:VEVENT
UID:5072275:Event:477398
DTSTAMP:20260421T082535Z
SUMMARY:NE Georgia Swap Meet - Commerce, Ga
DESCRIPTION: The management of Atlanta Dragway is enthusiastic about o
 ur show and have helped us grow by actively promoting our event to the
 ir racers and spectators.  Vendor set-up is 7am, gates open to the pub
 lic at 8:30. Vendor spaces are $20 for all the space you need. Spectat
 or entry is $5. Spectators and vendors will enter the racer’s gate, 
 to the left at the end of the main driveway into the property.   Direc
 tions: From I-85: I-85 to Exit 149—Banks Crossing/Hwy 441.  Turn NOR
 TH (or West) onto Highway 441. LEFT at SECOND stoplight, onto Steven B
 . Tanger Blvd. First RIGHT (before Applebee’s) onto East Ridegway Ro
 ad.  The main entrance is on the RIGHT. For a map, got to: http://atla
 ntadragway.com/apcm/templates/track_info.asp?articleid=2657&zoneid=35 
  If you would like to be added to our monthly email reminder list, ple
 ase send an email to: brad56@windstream.net.  If you have any friends 
 you think would like to attend our show, please forward this to them. 
  If you would like some fliers to pass out, put out at your shop, or 
 put on your table at other swap meets and events you attend, send us y
 our mailing address and the number of fliers you would like, and we’
 ll drop some in the mail.   Show Dates for 2012 March 3 April 7 May 12
  June 9 July  7 August 4 September 1 October 6 November 3\n\nFor more
  information visit https://www.southeastwheelsevents.com/events/ne-geo
 rgia-swap-meet-march-3-atlanta-dragway-commerce-ga
DTSTART;TZID=Pacific/Midway:20130302T070000
DTEND;TZID=Pacific/Midway:20130302T140000
CATEGORIES:swap, meet
LOCATION:Atlanta Dragway
WEBSITE:http://atlantadragway.com
URL:http://atlantadragway.com
CONTACT:(706) 424-5035
ORGANIZER;CN="Brad Ocock":https://www.southeastwheelsevents.com/profil
 e/BradOcock
ATTACH;FMTTYPE="image/jpeg":
ATTENDEE;ROLE=REQ-PARTICIPANT;PARTSTAT=ACCEPTED;RSVP=TRUE;CN="Christal
  Brown":https://www.southeastwheelsevents.com/profile/ChristalBrown
ATTENDEE;ROLE=REQ-PARTICIPANT;PARTSTAT=ACCEPTED;RSVP=TRUE;CN="Brad Oco
 ck":https://www.southeastwheelsevents.com/profile/BradOcock
END:VEVENT
END:VCALENDAR
