BEGIN:VCALENDAR
PRODID:NingEventWidget-v1
VERSION:2.0
METHOD:PUBLISH
BEGIN:VTIMEZONE
TZID:Pacific/Midway
X-LIC-LOCATION:Pacific/Midway
BEGIN:STANDARD
TZOFFSETFROM:-1100
TZOFFSETTO:-1100
TZNAME:SST
DTSTART:19700101T000000
END:STANDARD
END:VTIMEZONE
BEGIN:VEVENT
UID:5072275:Event:477604
DTSTAMP:20260423T231223Z
SUMMARY:NE Georgia Swap Meet POSTPONED TO SUNDAY, MARCH 4
DESCRIPTION:Due to severe weather, the NE Georgia Swap Meet has been p
 ostponed to Sunday, March 4\n\nFor more information visit https://www.
 southeastwheelsevents.com/events/ne-georgia-swap-meet-postponed-to-sun
 day-march-4
DTSTART;TZID=Pacific/Midway:20120304T070000
DTEND;TZID=Pacific/Midway:20120304T140000
CATEGORIES:swap, meet
LOCATION:Atlanta Dragway
WEBSITE:
URL:
CONTACT:
ORGANIZER;CN="Brad Ocock":https://www.southeastwheelsevents.com/profil
 e/BradOcock
ATTACH;FMTTYPE="image/jpeg":
ATTENDEE;ROLE=REQ-PARTICIPANT;PARTSTAT=ACCEPTED;RSVP=TRUE;CN="Brad Oco
 ck":https://www.southeastwheelsevents.com/profile/BradOcock
END:VEVENT
END:VCALENDAR
