BEGIN:VCALENDAR
PRODID:NingEventWidget-v1
VERSION:2.0
METHOD:PUBLISH
BEGIN:VTIMEZONE
TZID:Pacific/Midway
X-LIC-LOCATION:Pacific/Midway
BEGIN:STANDARD
TZOFFSETFROM:-1100
TZOFFSETTO:-1100
TZNAME:SST
DTSTART:19700101T000000
END:STANDARD
END:VTIMEZONE
BEGIN:VEVENT
UID:5072275:Event:1109850
DTSTAMP:20260421T035213Z
SUMMARY:Neal Senior Center 5th Annual Car Show - Shelby, Nc
DESCRIPTION:Neal Senior Center 5th Annual Car Show and Flea Market.\n\
 nFor more information visit https://www.southeastwheelsevents.com/even
 ts/neal-senior-center-5th-annual-car-show-shelby-nc
DTSTART;TZID=Pacific/Midway:20181027T080000
DTEND;TZID=Pacific/Midway:20181027T140000
CATEGORIES:car, show, cruise, in
LOCATION:Shelby, Nc
WEBSITE:https://nealseniorcenter.org/
URL:https://nealseniorcenter.org/
CONTACT:(704) 481-7390
ORGANIZER:Heather Ledbetter
ATTACH;FMTTYPE="image/jpeg":http://storage.ning.com/topology/rest/1.0/
 file/get/967804557?profile=original
ATTENDEE;ROLE=REQ-PARTICIPANT;PARTSTAT=ACCEPTED;RSVP=TRUE;CN="Anthony 
 Hopkins":https://www.southeastwheelsevents.com/profile/AnthonyHopkins
END:VEVENT
END:VCALENDAR
