BEGIN:VCALENDAR
PRODID:NingEventWidget-v1
VERSION:2.0
METHOD:PUBLISH
BEGIN:VTIMEZONE
TZID:Pacific/Midway
X-LIC-LOCATION:Pacific/Midway
BEGIN:STANDARD
TZOFFSETFROM:-1100
TZOFFSETTO:-1100
TZNAME:SST
DTSTART:19700101T000000
END:STANDARD
END:VTIMEZONE
BEGIN:VEVENT
UID:5072275:Event:705516
DTSTAMP:20260424T152355Z
SUMMARY:Neighbor Day Open Car Show- McDonald, TN
DESCRIPTION:Neighbor Day Open Car Show- McDonald, TN\n\nFor more infor
 mation visit https://www.southeastwheelsevents.com/events/neighbor-day
 -open-car-show-mcdonald-tn
DTSTART;TZID=Pacific/Midway:20141018T100000
DTEND;TZID=Pacific/Midway:20141018T140000
CATEGORIES:car-show
LOCATION:Bachman Academy
WEBSITE:
URL:
CONTACT:424-244-5883, 423-479-4523
ORGANIZER:Neighbor Day
ATTACH;FMTTYPE="image/jpeg":http://storage.ning.com/topology/rest/1.0/
 file/get/967648173?profile=original
ATTENDEE;ROLE=REQ-PARTICIPANT;PARTSTAT=ACCEPTED;RSVP=TRUE;CN="Jack Tho
 mas":https://www.southeastwheelsevents.com/profile/JackThomas
END:VEVENT
END:VCALENDAR
