BEGIN:VCALENDAR
PRODID:NingEventWidget-v1
VERSION:2.0
METHOD:PUBLISH
BEGIN:VTIMEZONE
TZID:Pacific/Midway
X-LIC-LOCATION:Pacific/Midway
BEGIN:STANDARD
TZOFFSETFROM:-1100
TZOFFSETTO:-1100
TZNAME:SST
DTSTART:19700101T000000
END:STANDARD
END:VTIMEZONE
BEGIN:VEVENT
UID:5072275:Event:703479
DTSTAMP:20260423T150009Z
SUMMARY:New Jerusalem Baptist Church Car, Truck & Bike Show -Belton, S
 C
DESCRIPTION:New Jerusalem Baptist Church Car, Truck & Bike Show -Belto
 n, SC\n\nFor more information visit https://www.southeastwheelsevents.
 com/events/new-jerusalem-baptist-church-car-truck-bike-show-belton-sc
DTSTART;TZID=Pacific/Midway:20141011T080000
DTEND;TZID=Pacific/Midway:20141011T150000
CATEGORIES:car-truck-bike-show
LOCATION:Fred's
WEBSITE:
URL:
CONTACT:864-414-7802
ORGANIZER:New Jerusalem Baptist Church
ATTACH;FMTTYPE="image/jpeg":http://storage.ning.com/topology/rest/1.0/
 file/get/967645220?profile=original
ATTENDEE;ROLE=REQ-PARTICIPANT;PARTSTAT=ACCEPTED;RSVP=TRUE;CN="Jack Tho
 mas":https://www.southeastwheelsevents.com/profile/JackThomas
END:VEVENT
END:VCALENDAR
