BEGIN:VCALENDAR
PRODID:NingEventWidget-v1
VERSION:2.0
METHOD:PUBLISH
BEGIN:VTIMEZONE
TZID:Pacific/Midway
X-LIC-LOCATION:Pacific/Midway
BEGIN:STANDARD
TZOFFSETFROM:-1100
TZOFFSETTO:-1100
TZNAME:SST
DTSTART:19700101T000000
END:STANDARD
END:VTIMEZONE
BEGIN:VEVENT
UID:5072275:Event:705497
DTSTAMP:20260423T180454Z
SUMMARY:New Life Church Car Show -Boiling Springs, SC
DESCRIPTION:New Life Baptist Fellowship Church Car Show -Boiling Sprin
 gs, SC\n\nFor more information visit https://www.southeastwheelsevents
 .com/events/new-life-church-car-show-red-boiling-springs-tn
DTSTART;TZID=Pacific/Midway:20140426T090000
DTEND;TZID=Pacific/Midway:20140426T150000
CATEGORIES:car-show
LOCATION:New Life Baptist Fellowship Church
WEBSITE:
URL:
CONTACT:864-590-4378
ORGANIZER:New Life church
ATTACH;FMTTYPE="image/jpeg":http://storage.ning.com/topology/rest/1.0/
 file/get/967649227?profile=original
ATTENDEE;ROLE=REQ-PARTICIPANT;PARTSTAT=ACCEPTED;RSVP=TRUE;CN="Jack Tho
 mas":https://www.southeastwheelsevents.com/profile/JackThomas
END:VEVENT
END:VCALENDAR
