BEGIN:VCALENDAR
PRODID:NingEventWidget-v1
VERSION:2.0
METHOD:PUBLISH
BEGIN:VTIMEZONE
TZID:Pacific/Midway
X-LIC-LOCATION:Pacific/Midway
BEGIN:STANDARD
TZOFFSETFROM:-1100
TZOFFSETTO:-1100
TZNAME:SST
DTSTART:19700101T000000
END:STANDARD
END:VTIMEZONE
BEGIN:VEVENT
UID:5072275:Event:1031018
DTSTAMP:20260423T160255Z
SUMMARY:New Rider Course at Bert's Barracuda HD - Day 2 of 3
DESCRIPTION:New Rider Course at Bert's Barracuda Harley-Davidson. Lear
 n to ride on a genuine Harley-Davidson® motorcycle. Get in-class and 
 on-range instruction from Motorcycle Safety Foundation® (MSF) and H-D
 ® Certified Coaches. Learn to safely accelerate, shift, brake, and tu
 rn, along with maneuvers like controlling skids and surmounting obstac
 les. The class fee is $169.\n\nFor more information visit https://www.
 southeastwheelsevents.com/events/new-rider-course-at-bert-s-barracuda-
 hd-day-2-of-3-1
DTSTART;TZID=Pacific/Midway:20170205T070000
DTEND;TZID=Pacific/Midway:20170205T170000
CATEGORIES:motorcycles, "education/schools"
LOCATION:Bert's Barracuda Harley-Davidson
WEBSITE:http://www.bertsbarracuda.com/ride-better--learn-to-ride
URL:http://www.bertsbarracuda.com/ride-better--learn-to-ride
CONTACT:
ORGANIZER:Bert's Barracuda Harley-Davidson
ATTACH;FMTTYPE="image/jpeg":
ATTENDEE;ROLE=REQ-PARTICIPANT;PARTSTAT=ACCEPTED;RSVP=TRUE;CN="Christop
 her Gosney":https://www.southeastwheelsevents.com/profile/ChristopherG
 osney
END:VEVENT
END:VCALENDAR
