BEGIN:VCALENDAR
PRODID:NingEventWidget-v1
VERSION:2.0
METHOD:PUBLISH
BEGIN:VTIMEZONE
TZID:Pacific/Midway
X-LIC-LOCATION:Pacific/Midway
BEGIN:STANDARD
TZOFFSETFROM:-1100
TZOFFSETTO:-1100
TZNAME:SST
DTSTART:19700101T000000
END:STANDARD
END:VTIMEZONE
BEGIN:VEVENT
UID:5072275:Event:1030094
DTSTAMP:20260422T080940Z
SUMMARY:New Rider Course at Blue Ridge Harley-Davidson (Day 3 of 3)
DESCRIPTION:New Rider Course will happen at Blue Ridge Harley-Davidson
 . 6 of 6 seats are open for this class. The class fee is $249. Harley-
 Davidson® Riding Academy. Theodore Hodgeon (hdridingacademybrhd@sfe-u
 s.com). Fri-Feb 3-5:30pm - 9:00pm,Sat-Feb 4-8:00am - 5:00pm,Sun-Feb 5-
 8:00am - 5:00pm\n\nFor more information visit https://www.southeastwhe
 elsevents.com/events/new-rider-course-at-blue-ridge-harley-davidson-da
 y-3-of-3
DTSTART;TZID=Pacific/Midway:20170205T080000
DTEND;TZID=Pacific/Midway:20170205T170000
CATEGORIES:motorcycles, "education/schools", used, "vehicles/dealers"
LOCATION:Blue Ridge Harley-Davidson
WEBSITE:http://www.harley-davidson.com/content/h-d/en_US/home/learn-to
 -ride/search-riding-academy.html?local
URL:http://www.harley-davidson.com/content/h-d/en_US/home/learn-to-rid
 e/search-riding-academy.html?local
CONTACT:
ORGANIZER:Blue Ridge Harley-Davidson
ATTACH;FMTTYPE="image/jpeg":
ATTENDEE;ROLE=REQ-PARTICIPANT;PARTSTAT=ACCEPTED;RSVP=TRUE;CN="Christop
 her Gosney":https://www.southeastwheelsevents.com/profile/ChristopherG
 osney
END:VEVENT
END:VCALENDAR
