BEGIN:VCALENDAR
PRODID:NingEventWidget-v1
VERSION:2.0
METHOD:PUBLISH
BEGIN:VTIMEZONE
TZID:Pacific/Midway
X-LIC-LOCATION:Pacific/Midway
BEGIN:STANDARD
TZOFFSETFROM:-1100
TZOFFSETTO:-1100
TZNAME:SST
DTSTART:19700101T000000
END:STANDARD
END:VTIMEZONE
BEGIN:VEVENT
UID:5072275:Event:1030830
DTSTAMP:20260424T045250Z
SUMMARY:New Rider Course at Seminole HD
DESCRIPTION:Learn to ride on a genuine Harley-Davidson® motorcycle. G
 et in-class and on-range instruction from Motorcycle Safety Foundation
 ® (MSF) and H-D® Certified Coaches. Learn to safely accelerate, shif
 t, brake, and turn, along with maneuvers like controlling skids and su
 rmounting obstacles. The class fee is $199.\n\nFor more information vi
 sit https://www.southeastwheelsevents.com/events/new-rider-course-at-s
 eminole-hd
DTSTART;TZID=Pacific/Midway:20170129T180000
DTEND;TZID=Pacific/Midway:20170129T220000
CATEGORIES:motorcycles, "education/schools"
LOCATION:Seminole Harley-Davidson
WEBSITE:http://www.seminoleharley.com/come-with-us-and--learn-to-ride
URL:http://www.seminoleharley.com/come-with-us-and--learn-to-ride
CONTACT:
ORGANIZER:Seminole Harley-Davidson
ATTACH;FMTTYPE="image/jpeg":
ATTENDEE;ROLE=REQ-PARTICIPANT;PARTSTAT=ACCEPTED;RSVP=TRUE;CN="Christop
 her Gosney":https://www.southeastwheelsevents.com/profile/ChristopherG
 osney
END:VEVENT
END:VCALENDAR
