BEGIN:VCALENDAR
PRODID:NingEventWidget-v1
VERSION:2.0
METHOD:PUBLISH
BEGIN:VTIMEZONE
TZID:Pacific/Midway
X-LIC-LOCATION:Pacific/Midway
BEGIN:STANDARD
TZOFFSETFROM:-1100
TZOFFSETTO:-1100
TZNAME:SST
DTSTART:19700101T000000
END:STANDARD
END:VTIMEZONE
BEGIN:VEVENT
UID:5072275:Event:1030366
DTSTAMP:20260423T160419Z
SUMMARY:New Rider Course at Smoky Mountain Harley-Davidson - Day 3 of 
 3
DESCRIPTION:New Rider Course at Smoky Mountain Harley-Davidson. If you
 ’re ready to experience the unique thrill of riding your own motorcy
 cle for the first time, there’s no better place to learn than the Ne
 w Rider Course at Harley-Davidson™ Riding Academy. What To Expect : 
 Learn to ride on a genuine Harley-Davidson® motorcycle; Get in-class 
 and on-range instruction from Motorcycle Safety Foundation® (MSF) and
  H-D® Certified Coaches; Learn to safely accelerate, shift, brake, an
 d turn, along with maneuvers like controlling skids and surmounting ob
 stacles; Earn an MSF Basic RiderCourseSM Completion Card, which may (v
 aries by state) exempt you from the riding portion of your license exa
 m and score you a discount on motorcycle insurance. The class fee is $
 295.\n\nFor more information visit https://www.southeastwheelsevents.c
 om/events/new-rider-course-at-smoky-mountain-harley-davidson-day-3-of-
 3
DTSTART;TZID=Pacific/Midway:20170205T080000
DTEND;TZID=Pacific/Midway:20170205T170000
CATEGORIES:motorcycles, "education/schools"
LOCATION:Smoky Mountain Harley-Davidson
WEBSITE:http://www.smh-d.com/learn-to-ride-with-harley-davidson--learn
 -to-ride
URL:http://www.smh-d.com/learn-to-ride-with-harley-davidson--learn-to-
 ride
CONTACT:
ORGANIZER:Harley-Davidson Riding Academy
ATTACH;FMTTYPE="image/jpeg":
ATTENDEE;ROLE=REQ-PARTICIPANT;PARTSTAT=ACCEPTED;RSVP=TRUE;CN="Christop
 her Gosney":https://www.southeastwheelsevents.com/profile/ChristopherG
 osney
END:VEVENT
END:VCALENDAR
