BEGIN:VCALENDAR
PRODID:NingEventWidget-v1
VERSION:2.0
METHOD:PUBLISH
BEGIN:VTIMEZONE
TZID:Pacific/Midway
X-LIC-LOCATION:Pacific/Midway
BEGIN:STANDARD
TZOFFSETFROM:-1100
TZOFFSETTO:-1100
TZNAME:SST
DTSTART:19700101T000000
END:STANDARD
END:VTIMEZONE
BEGIN:VEVENT
UID:5072275:Event:1030712
DTSTAMP:20260419T012946Z
SUMMARY:New Rider Course at Space Coast Harley-Davidson - Day 2 of 3
DESCRIPTION:New Rider Course will havppenat Space Coast Harley-Davidso
 n, 1440 Sportsman Lane NE, Palm Bay, Florida. Learn to ride on a genui
 ne Harley-Davidson® motorcycle. Get in-class and on-range instruction
  from Motorcycle Safety Foundation® (MSF) and H-D® Certified Coaches
 . Learn to safely accelerate, shift, brake, and turn, along with maneu
 vers like controlling skids and surmounting obstacles. The class fee i
 s $199.\n\nFor more information visit https://www.southeastwheelsevent
 s.com/events/new-rider-course-at-space-coast-harley-davidson-day-2-of-
 3
DTSTART;TZID=Pacific/Midway:20170131T064500
DTEND;TZID=Pacific/Midway:20170131T160000
CATEGORIES:motorcycles, "education/schools"
LOCATION:Space Coast Harley-Davidson
WEBSITE:http://www.spacecoastharley.com/learn-to-ride-with--riding_aca
 demy
URL:http://www.spacecoastharley.com/learn-to-ride-with--riding_academy
CONTACT:
ORGANIZER:Space Coast Harley-Davidson
ATTACH;FMTTYPE="image/jpeg":
ATTENDEE;ROLE=REQ-PARTICIPANT;PARTSTAT=ACCEPTED;RSVP=TRUE;CN="Christop
 her Gosney":https://www.southeastwheelsevents.com/profile/ChristopherG
 osney
END:VEVENT
END:VCALENDAR
