BEGIN:VCALENDAR
PRODID:NingEventWidget-v1
VERSION:2.0
METHOD:PUBLISH
BEGIN:VTIMEZONE
TZID:Pacific/Midway
X-LIC-LOCATION:Pacific/Midway
BEGIN:STANDARD
TZOFFSETFROM:-1100
TZOFFSETTO:-1100
TZNAME:SST
DTSTART:19700101T000000
END:STANDARD
END:VTIMEZONE
BEGIN:VEVENT
UID:5072275:Event:1027817
DTSTAMP:20260420T010048Z
SUMMARY:New Rider Course at Thunder Tower Harley-Davidson - Day 1 of 2
DESCRIPTION:earn to ride on a genuine Harley-DavidsonĀ® motorcycle. Ge
 t in-class and on-range instruction from Motorcycle Safety FoundationĀ
 ® (MSF) and H-DĀ® Certified Coaches. Learn to safely accelerate, shift
 , brake, and turn, along with maneuvers like controlling skids and sur
 mounting obstacles. Earn an MSF Basic Rider Course SM Completion Card,
  which may (varies by state) exempt you from the riding portion of you
 r license exam and score you a discount on motorcycle insurance. The c
 lass fee is $250\n\nFor more information visit https://www.southeastwh
 eelsevents.com/events/new-rider-course-at-thunder-tower-harley-davidso
 n-day-1-of-2
DTSTART;TZID=Pacific/Midway:20170114T070000
DTEND;TZID=Pacific/Midway:20170114T170000
CATEGORIES:promo
LOCATION:Thunder Tower Harley-Davidson
WEBSITE:http://www.thundertowerharley.com/
URL:http://www.thundertowerharley.com/
CONTACT:
ORGANIZER:Thunder Tower Harley-Davidson
ATTACH;FMTTYPE="image/jpeg":http://storage.ning.com/topology/rest/1.0/
 file/get/967726583?profile=original
ATTENDEE;ROLE=REQ-PARTICIPANT;PARTSTAT=ACCEPTED;RSVP=TRUE;CN="Christop
 her Gosney":https://www.southeastwheelsevents.com/profile/ChristopherG
 osney
END:VEVENT
END:VCALENDAR
