BEGIN:VCALENDAR
PRODID:NingEventWidget-v1
VERSION:2.0
METHOD:PUBLISH
BEGIN:VTIMEZONE
TZID:Pacific/Midway
X-LIC-LOCATION:Pacific/Midway
BEGIN:STANDARD
TZOFFSETFROM:-1100
TZOFFSETTO:-1100
TZNAME:SST
DTSTART:19700101T000000
END:STANDARD
END:VTIMEZONE
BEGIN:VEVENT
UID:5072275:Event:1029815
DTSTAMP:20260424T045816Z
SUMMARY:New Rider Course at Tifton Harley-Davidson - Day 4 of 4
DESCRIPTION:New Rider Course at Falcons Fury Harley-Davidson. If youâ€
 ™re ready to experience the unique thrill of riding your own motorcycl
 e for the first time, thereâ€™s no better place to learn than the New 
 Rider Course at Harley-Davidsonâ„˘ Riding Academy. What To Expect : Le
 arn to ride on a genuine Harley-DavidsonÂ® motorcycle; Get in-class an
 d on-range instruction from Motorcycle Safety FoundationÂ® (MSF) and H
 -DÂ® Certified Coaches; Learn to safely accelerate, shift, brake, and 
 turn, along with maneuvers like controlling skids and surmounting obst
 acles; Earn an MSF Basic RiderCourseSM Completion Card, which may (var
 ies by state) exempt you from the riding portion of your license exam 
 and score you a discount on motorcycle insurance. The class fee is $29
 5.\n\nFor more information visit https://www.southeastwheelsevents.com
 /events/new-rider-course-at-tifton-harley-davidson-day-4-of-4
DTSTART;TZID=Pacific/Midway:20170129T080000
DTEND;TZID=Pacific/Midway:20170129T180000
CATEGORIES:motorcycles, "education/schools"
LOCATION:Tifton Harley-Davidson
WEBSITE:http://www.tiftonharley.com/ride-better--learn-to-ride
URL:http://www.tiftonharley.com/ride-better--learn-to-ride
CONTACT:
ORGANIZER:Harley-Davidson Riding Academy
ATTACH;FMTTYPE="image/jpeg":
ATTENDEE;ROLE=REQ-PARTICIPANT;PARTSTAT=ACCEPTED;RSVP=TRUE;CN="Christop
 her Gosney":https://www.southeastwheelsevents.com/profile/ChristopherG
 osney
END:VEVENT
END:VCALENDAR
