BEGIN:VCALENDAR
PRODID:NingEventWidget-v1
VERSION:2.0
METHOD:PUBLISH
BEGIN:VTIMEZONE
TZID:Pacific/Midway
X-LIC-LOCATION:Pacific/Midway
BEGIN:STANDARD
TZOFFSETFROM:-1100
TZOFFSETTO:-1100
TZNAME:SST
DTSTART:19700101T000000
END:STANDARD
END:VTIMEZONE
BEGIN:VEVENT
UID:5072275:Event:727083
DTSTAMP:20260421T070635Z
SUMMARY:Rolling Steel Car Cruise In -Alpharetta, GA
DESCRIPTION:FREE CRUISE IN CAR SHOW AHEAD FOR AUCTION DAY!!\nWE HAVE A
 N AUCTION IN THE AFTERNOON SO WE HAVE A CRUISE IN IN THE MORNING!\nBRI
 NG YOUR ANTIQUE, CLASSIC, CUSTOM, HOT ROD, TRUCK, MOTORCYCLE, RAT ROD,
  OR NEWER MODEL SPORTS CARS.\nALL CAR CLUBS WELCOME, PLENTY OF ROOM FO
 R COUPLE HUNDRED CARS.\nCASH PRIZES FOR FOUR TOP BEST OF SHOW.\nMUSIC 
 , REFRESHMENTS, REST ROOMS, AND OUR ANTIQUE MALL IS OPEN FOR ALL THE L
 ADIES AND GENTS TO SHOP WHILE YOU ARE HERE.\n\nFor more information vi
 sit https://www.southeastwheelsevents.com/events/new-year-s-day-rollin
 g-steel-car-cruise-in-alpharetta-ga-1
DTSTART;TZID=Pacific/Midway:20141116T080000
DTEND;TZID=Pacific/Midway:20141116T230000
CATEGORIES:car, cruise, in
LOCATION:Four Seasons Alpharetta
WEBSITE:http://www.fsagallery.com
URL:http://www.fsagallery.com
CONTACT:404-876-1048
ORGANIZER:Steve White
ATTACH;FMTTYPE="image/jpeg":http://storage.ning.com/topology/rest/1.0/
 file/get/967641427?profile=original
ATTENDEE;ROLE=REQ-PARTICIPANT;PARTSTAT=ACCEPTED;RSVP=TRUE;CN="Michael 
 Thies":https://www.southeastwheelsevents.com/profile/MichaelThies
END:VEVENT
END:VCALENDAR
