BEGIN:VCALENDAR
PRODID:NingEventWidget-v1
VERSION:2.0
METHOD:PUBLISH
BEGIN:VTIMEZONE
TZID:Pacific/Midway
X-LIC-LOCATION:Pacific/Midway
BEGIN:STANDARD
TZOFFSETFROM:-1100
TZOFFSETTO:-1100
TZNAME:SST
DTSTART:19700101T000000
END:STANDARD
END:VTIMEZONE
BEGIN:VEVENT
UID:5072275:Event:1033099
DTSTAMP:20260421T162932Z
SUMMARY:NextEra Energy Resources 250
DESCRIPTION:The NASCAR Camping World Truck Series takes center stage u
 nder the lights on the Friday night before the DAYTONA 500. Annually o
 ne of the most exciting races at DAYTONA, the 100-lap NextEra Energy R
 esources 250 is well-known for its long list of split-second finishes.
 \n\nFor more information visit https://www.southeastwheelsevents.com/e
 vents/nextera-energy-resources-250
DTSTART;TZID=Pacific/Midway:20170224T000000
DTEND;TZID=Pacific/Midway:20170224T235900
CATEGORIES:race, nascar
LOCATION:Daytona Intl Speedway
WEBSITE:http://www.daytonainternationalspeedway.com/
URL:http://www.daytonainternationalspeedway.com/
CONTACT:18007487867
ORGANIZER:Daytona Intl Speedway
ATTACH;FMTTYPE="image/jpeg":http://storage.ning.com/topology/rest/1.0/
 file/get/967732235?profile=original
ATTENDEE;ROLE=REQ-PARTICIPANT;PARTSTAT=ACCEPTED;RSVP=TRUE;CN="Christop
 her Gosney":https://www.southeastwheelsevents.com/profile/ChristopherG
 osney
END:VEVENT
END:VCALENDAR
