BEGIN:VCALENDAR
PRODID:NingEventWidget-v1
VERSION:2.0
METHOD:PUBLISH
BEGIN:VTIMEZONE
TZID:Pacific/Midway
X-LIC-LOCATION:Pacific/Midway
BEGIN:STANDARD
TZOFFSETFROM:-1100
TZOFFSETTO:-1100
TZNAME:SST
DTSTART:19700101T000000
END:STANDARD
END:VTIMEZONE
BEGIN:VEVENT
UID:5072275:Event:987625
DTSTAMP:20260424T012919Z
SUMMARY:NHRA Mello Yello Drag Racing Series -Bristol, TN
DESCRIPTION:The NHRA Mello Yello Drag Racing Series will be held at th
 e Bristol Dragway in Bristol, Tennessee from June 17th to June 19th, 2
 016.Location:-Bristol Dragway in Bristol, Tennessee (151 Speedway Blv
 d, Bristol, TN 37620)Tickets:-Visit the website listed below for ticke
 ts as they become availableAll day events! Top Fuel, Funny Car, Pro St
 ock, Pro Stock Motorcycle classes and more! Please Contact For More I
 nformation:-(626) 914-4761\n\nFor more information visit https://www.s
 outheastwheelsevents.com/events/nhra-mello-yello-drag-racing-series-br
 istol-tn
DTSTART;TZID=Pacific/Midway:20160617T000000
DTEND;TZID=Pacific/Midway:20160619T235900
CATEGORIES:motorcycle, show, drag-races, drag-cars
LOCATION:Bristol Dragway
WEBSITE:http://www.nhra.com
URL:http://www.nhra.com
CONTACT:626-914-4761 nto@nhra.com
ORGANIZER:NHRA
ATTACH;FMTTYPE="image/jpeg":http://storage.ning.com/topology/rest/1.0/
 file/get/967708915?profile=original
ATTENDEE;ROLE=REQ-PARTICIPANT;PARTSTAT=ACCEPTED;RSVP=TRUE;CN="Chuck Aa
 ron":https://www.southeastwheelsevents.com/profile/ChuckAaron
END:VEVENT
END:VCALENDAR
