BEGIN:VCALENDAR
PRODID:NingEventWidget-v1
VERSION:2.0
METHOD:PUBLISH
BEGIN:VTIMEZONE
TZID:Pacific/Midway
X-LIC-LOCATION:Pacific/Midway
BEGIN:STANDARD
TZOFFSETFROM:-1100
TZOFFSETTO:-1100
TZNAME:SST
DTSTART:19700101T000000
END:STANDARD
END:VTIMEZONE
BEGIN:VEVENT
UID:5072275:Event:558746
DTSTAMP:20260424T033136Z
SUMMARY:NNL Southern Nationals Model Car Show -Cartersville, GA
DESCRIPTION:Biggest and best model car show in the southeast, put on b
 y the ACME model club. For more than a quarter century, Southern Natio
 nals has been a mainstay regional car show. This year showed that it r
 emains a prime event to show kick-ass scale auto models. Don’t wait 
 any longer.\r\n\n\nFor more information visit https://www.southeastwhe
 elsevents.com/events/nnl-southern-nats-model-car-contest-show-november
 -10-2012-in
DTSTART;TZID=Pacific/Midway:20241026T100000
DTEND;TZID=Pacific/Midway:20241026T160000
CATEGORIES:"contest/show", model, cars
LOCATION:Clarence Brown Conference Center
WEBSITE:http://acme-ipms.com
URL:http://acme-ipms.com
CONTACT:770-597-2768
ORGANIZER:ACME (Atlanta Car Model Enthusiasts)
ATTACH;FMTTYPE="image/jpeg":http://storage.ning.com/topology/rest/1.0/
 file/get/967623334?profile=original
ATTENDEE;ROLE=REQ-PARTICIPANT;PARTSTAT=ACCEPTED;RSVP=TRUE;CN="Chuck Aa
 ron":https://www.southeastwheelsevents.com/profile/ChuckAaron886
ATTENDEE;ROLE=REQ-PARTICIPANT;PARTSTAT=ACCEPTED;RSVP=TRUE;CN="Bill Dav
 is":https://www.southeastwheelsevents.com/profile/BillDavis
ATTENDEE;ROLE=REQ-PARTICIPANT;PARTSTAT=ACCEPTED;RSVP=TRUE;CN="Pat Durb
 in":https://www.southeastwheelsevents.com/profile/PatDurbin
ATTENDEE;ROLE=REQ-PARTICIPANT;PARTSTAT=ACCEPTED;RSVP=TRUE;CN="Michael 
 Thies":https://www.southeastwheelsevents.com/profile/MichaelThies
ATTENDEE;ROLE=REQ-PARTICIPANT;PARTSTAT=ACCEPTED;RSVP=TRUE;CN="Greg Ste
 gall":https://www.southeastwheelsevents.com/profile/GregStegall
END:VEVENT
END:VCALENDAR
