BEGIN:VCALENDAR
PRODID:NingEventWidget-v1
VERSION:2.0
METHOD:PUBLISH
BEGIN:VTIMEZONE
TZID:Pacific/Midway
X-LIC-LOCATION:Pacific/Midway
BEGIN:STANDARD
TZOFFSETFROM:-1100
TZOFFSETTO:-1100
TZNAME:SST
DTSTART:19700101T000000
END:STANDARD
END:VTIMEZONE
BEGIN:VEVENT
UID:5072275:Event:1151235
DTSTAMP:20260422T162652Z
SUMMARY:NO event at YEARONE on February 16th-we are closed Saturday
DESCRIPTION:There is a posting error we didn't post. YAERONE is closed
  Saturday February 16th.\n\nFor more information visit https://www.sou
 theastwheelsevents.com/events/no-event-at-yearone-february-16th-we-are
 -closed-saturday
DTSTART;TZID=Pacific/Midway:20190216T170000
DTEND;TZID=Pacific/Midway:20190216T210000
CATEGORIES:not, scheduled
LOCATION:YEARONE -- not having event 2/16/19
WEBSITE:
URL:
CONTACT:
ORGANIZER;CN="YEARONE Marketing Coordinator":https://www.southeastwhee
 lsevents.com/profile/YEARONEMarketingCoordinator
ATTACH;FMTTYPE="image/jpeg":
ATTENDEE;ROLE=REQ-PARTICIPANT;PARTSTAT=ACCEPTED;RSVP=TRUE;CN="YEARONE 
 Marketing Coordinator":https://www.southeastwheelsevents.com/profile/Y
 EARONEMarketingCoordinator
END:VEVENT
END:VCALENDAR
