BEGIN:VCALENDAR
PRODID:NingEventWidget-v1
VERSION:2.0
METHOD:PUBLISH
BEGIN:VTIMEZONE
TZID:Pacific/Midway
X-LIC-LOCATION:Pacific/Midway
BEGIN:STANDARD
TZOFFSETFROM:-1100
TZOFFSETTO:-1100
TZNAME:SST
DTSTART:19700101T000000
END:STANDARD
END:VTIMEZONE
BEGIN:VEVENT
UID:5072275:Event:786456
DTSTAMP:20260422T095716Z
SUMMARY:No Love Bi-Weekly Sundays! -Buford. GA
DESCRIPTION:NoLove4Atl, DropGearz Motorsports, Grease Inc, SouthEastWh
 eelsEvents, and Garage 71 are proud to announce our   Bi-Weekly Sunda
 y Car Meet. We invite all cars and bikes out to enjoy a nice day in do
 wntown Buford with your local gear head culture.\n\n\nFor more informa
 tion visit https://www.southeastwheelsevents.com/events/no-love-bi-wee
 kly-sundays
DTSTART;TZID=Pacific/Midway:20140525T130000
DTEND;TZID=Pacific/Midway:20140525T190000
CATEGORIES:car, "show/", cruise, "-in/", meet
LOCATION:Buford Tannery Row
WEBSITE:https://www.facebook.com/pages/NO-Love-Thursdays-Sundays/61793
 8631588419
URL:https://www.facebook.com/pages/NO-Love-Thursdays-Sundays/617938631
 588419
CONTACT:6783537969
ORGANIZER:No love 4 atlanta, grease mag,SEWE,Dropgearz
ATTACH;FMTTYPE="image/jpeg":http://storage.ning.com/topology/rest/1.0/
 file/get/967665198?profile=original
ATTENDEE;ROLE=REQ-PARTICIPANT;PARTSTAT=ACCEPTED;RSVP=TRUE;CN="Rickey D
 ailey":https://www.southeastwheelsevents.com/profile/RickeyDailey
ATTENDEE;ROLE=REQ-PARTICIPANT;PARTSTAT=ACCEPTED;RSVP=TRUE;CN="Michael 
 Thies":https://www.southeastwheelsevents.com/profile/MichaelThies
END:VEVENT
END:VCALENDAR
