BEGIN:VCALENDAR
PRODID:NingEventWidget-v1
VERSION:2.0
METHOD:PUBLISH
BEGIN:VTIMEZONE
TZID:Pacific/Midway
X-LIC-LOCATION:Pacific/Midway
BEGIN:STANDARD
TZOFFSETFROM:-1100
TZOFFSETTO:-1100
TZNAME:SST
DTSTART:19700101T000000
END:STANDARD
END:VTIMEZONE
BEGIN:VEVENT
UID:5072275:Event:528565
DTSTAMP:20260422T203451Z
SUMMARY:Wheels On The Hill Car Show & Swap Meet -Gadsden, AL
DESCRIPTION:\r\n\r\n\"Wheels On The Hill\" Car Show and Swap Meet June
  10-12 at Noccolula Falls Campground in Gadsten Alabama. Many antique 
 and collectables vendors and lots of cars and parts. Always a few bike
  people. Short ride from Georgia on I-59.\r\n\r\n\r\n\n\nFor more info
 rmation visit https://www.southeastwheelsevents.com/events/noccalula-r
 un-29-rod-run-swap-meet-gadsen-al
DTSTART;TZID=Pacific/Midway:20220610T000000
DTEND;TZID=Pacific/Midway:20220612T235900
CATEGORIES:car-show, swap-meet
LOCATION:Noccalula Falls Park
WEBSITE:
URL:
CONTACT:Kail Fair 256-543-7412
ORGANIZER:
ATTACH;FMTTYPE="image/jpeg":http://storage.ning.com/topology/rest/1.0/
 file/get/967617978?profile=original
ATTENDEE;ROLE=REQ-PARTICIPANT;PARTSTAT=ACCEPTED;RSVP=TRUE;CN="Jack Tho
 mas":https://www.southeastwheelsevents.com/profile/JackThomas
ATTENDEE;ROLE=REQ-PARTICIPANT;PARTSTAT=ACCEPTED;RSVP=TRUE;CN="Dude Wai
 ts":https://www.southeastwheelsevents.com/profile/DudeWaits
END:VEVENT
END:VCALENDAR
