BEGIN:VCALENDAR
PRODID:NingEventWidget-v1
VERSION:2.0
METHOD:PUBLISH
BEGIN:VTIMEZONE
TZID:Pacific/Midway
X-LIC-LOCATION:Pacific/Midway
BEGIN:STANDARD
TZOFFSETFROM:-1100
TZOFFSETTO:-1100
TZNAME:SST
DTSTART:19700101T000000
END:STANDARD
END:VTIMEZONE
BEGIN:VEVENT
UID:5072275:Event:862421
DTSTAMP:20260423T003501Z
SUMMARY:Nopi Nationals -South Concorde, NC
DESCRIPTION:Nopi Nationals Heads to Charlotte, NC at Concorde Speedway
  May 29-31.  The Championship series car show will feature the \"Bug 
 Off\", \"Trucknvasion\", \"Straight Flush\", \"Lowrider\", \"High Roll
 erz\", \"Modern Muscle\", \"Dream Car\", \"Classic Rods and Customs\" 
 and \"Fresh tec\" divisions. New for this year is a points chase to th
 e last show in November where 50 cars will be crowned 2015 National Ch
 ampions! That along with Drifting all weekend, NOPI Sound competition,
  the infamous Nopi Chic's and the World Class Nopi swimsuit competitio
 n, Nopi Nationals is truly something for everyone!  pre-registration 
 for all events is now open at nopinationals.com \n\nFor more informat
 ion visit https://www.southeastwheelsevents.com/events/nopi-nationals-
 3
DTSTART;TZID=Pacific/Midway:20150529T000000
DTEND;TZID=Pacific/Midway:20150531T235900
CATEGORIES:car, show, drift, sound, bikini, contest
LOCATION:Concorde Speedway
WEBSITE:http://nopinationals.com
URL:http://nopinationals.com
CONTACT:4043664700
ORGANIZER;CN="Bryant Sting Hodges":https://www.southeastwheelsevents.c
 om/profile/BryantStingHodges
ATTACH;FMTTYPE="image/jpeg":http://storage.ning.com/topology/rest/1.0/
 file/get/967679793?profile=original
ATTENDEE;ROLE=REQ-PARTICIPANT;PARTSTAT=ACCEPTED;RSVP=TRUE;CN="Snitch A
 dams":https://www.southeastwheelsevents.com/profile/SnitchAdams
ATTENDEE;ROLE=REQ-PARTICIPANT;PARTSTAT=ACCEPTED;RSVP=TRUE;CN="Bryant S
 ting Hodges":https://www.southeastwheelsevents.com/profile/BryantSting
 Hodges
END:VEVENT
END:VCALENDAR
