BEGIN:VCALENDAR
PRODID:NingEventWidget-v1
VERSION:2.0
METHOD:PUBLISH
BEGIN:VTIMEZONE
TZID:Pacific/Midway
X-LIC-LOCATION:Pacific/Midway
BEGIN:STANDARD
TZOFFSETFROM:-1100
TZOFFSETTO:-1100
TZNAME:SST
DTSTART:19700101T000000
END:STANDARD
END:VTIMEZONE
BEGIN:VEVENT
UID:5072275:Event:862157
DTSTAMP:20260425T073038Z
SUMMARY:Nopi Nationals -Clearwater, FL
DESCRIPTION:Nopi Nationals starts off the 2015 season in the Tampa FL 
 area at Showtime Dragstrip February 20-22! The Championship series car
  show will feature the \"Bug Off\", \"Trucknvasion\", \"Straight Flush
 \", \"Lowrider\", \"High Rollerz\", \"Modern Muscle\", \"Dream Car\", 
 \"Classic Rods and Customs\" and \"Fresh tec\" divisions. New for this
  year is a points chase to the last show in November where 50 cars wil
 l be crowned 2015 National Champions! That along with Drifting all wee
 kend, NOPI Sound competition, the infamous Nopi Chic's and the World C
 lass Nopi swimsuit competition, Nopi Nationals is truly something for 
 everyone!  pre-registration for all events is now open at nopinationa
 ls.com \n\nFor more information visit https://www.southeastwheelseven
 ts.com/events/nopi-nationals
DTSTART;TZID=Pacific/Midway:20150220T000000
DTEND;TZID=Pacific/Midway:20150222T235900
CATEGORIES:car, show, drift, sound, bikini, contest
LOCATION:Showtime Dragstrip
WEBSITE:http://nopinationals.com
URL:http://nopinationals.com
CONTACT:4043664700
ORGANIZER;CN="Bryant Sting Hodges":https://www.southeastwheelsevents.c
 om/profile/BryantStingHodges
ATTACH;FMTTYPE="image/jpeg":http://storage.ning.com/topology/rest/1.0/
 file/get/967680127?profile=original
ATTENDEE;ROLE=REQ-PARTICIPANT;PARTSTAT=ACCEPTED;RSVP=TRUE;CN="Bryant S
 ting Hodges":https://www.southeastwheelsevents.com/profile/BryantSting
 Hodges
ATTENDEE;ROLE=REQ-PARTICIPANT;PARTSTAT=ACCEPTED;RSVP=TRUE;CN="Rani Pec
 k, Owner/On Go Promo":https://www.southeastwheelsevents.com/profile/Ra
 niPeckOnGoPromo
END:VEVENT
END:VCALENDAR
