BEGIN:VCALENDAR
PRODID:NingEventWidget-v1
VERSION:2.0
METHOD:PUBLISH
BEGIN:VTIMEZONE
TZID:Pacific/Midway
X-LIC-LOCATION:Pacific/Midway
BEGIN:STANDARD
TZOFFSETFROM:-1100
TZOFFSETTO:-1100
TZNAME:SST
DTSTART:19700101T000000
END:STANDARD
END:VTIMEZONE
BEGIN:VEVENT
UID:5072275:Event:56858
DTSTAMP:20260421T121651Z
SUMMARY:North Georgia Technical College Homecoming 2010 -Clarkesville,
  GA
DESCRIPTION:Registration: 10:00 AM - 12:00 PM\nPre-Registration: $15\n
 Registration Day of Show: $20\nAwards by People's Choice: Top 15, Best
  of Show, Best Ford, Best Mopar, Best GM, Best Truck, Best Special Int
 erest\nShow will be held rain or shine.\n\nFor more information visit 
 https://www.southeastwheelsevents.com/events/north-georgia-technical
DTSTART;TZID=Pacific/Midway:20101016T100000
DTEND;TZID=Pacific/Midway:20101016T150000
CATEGORIES:fundraiser, for, student, scholarships
LOCATION:North Georgia Technical College - Clarkesville Campus
WEBSITE:http://www.northgatech.edu
URL:http://www.northgatech.edu
CONTACT:706-754-7714
ORGANIZER:Cynthia Brown
ATTACH;FMTTYPE="image/jpeg":http://storage.ning.com/topology/rest/1.0/
 file/get/967580229?profile=original
ATTENDEE;ROLE=REQ-PARTICIPANT;PARTSTAT=ACCEPTED;RSVP=TRUE;CN="Mike & B
 everly Raznoff":https://www.southeastwheelsevents.com/profile/BeverlyR
 aznoff
ATTENDEE;ROLE=REQ-PARTICIPANT;PARTSTAT=ACCEPTED;RSVP=TRUE;CN="Phillip 
 Watkins":https://www.southeastwheelsevents.com/profile/PhillipWatkins
END:VEVENT
END:VCALENDAR
