BEGIN:VCALENDAR
PRODID:NingEventWidget-v1
VERSION:2.0
METHOD:PUBLISH
BEGIN:VTIMEZONE
TZID:Pacific/Midway
X-LIC-LOCATION:Pacific/Midway
BEGIN:STANDARD
TZOFFSETFROM:-1100
TZOFFSETTO:-1100
TZNAME:SST
DTSTART:19700101T000000
END:STANDARD
END:VTIMEZONE
BEGIN:VEVENT
UID:5072275:Event:1096524
DTSTAMP:20260423T184243Z
SUMMARY:Advance Car Show - Lauren, SC
DESCRIPTION:ALL VEHICLES ARE WELCOME  - Advance Auto Parts\n\nFor mo
 re information visit https://www.southeastwheelsevents.com/events/nost
 algic-station-cruise-in-lauren-sc-1
DTSTART;TZID=Pacific/Midway:20210626T180000
DTEND;TZID=Pacific/Midway:20210626T220000
CATEGORIES:car, show, cruise, in
LOCATION:Advance Auto Parts
WEBSITE:
URL:
CONTACT:864-872-1667
ORGANIZER:
ATTACH;FMTTYPE="image/jpeg":http://storage.ning.com/topology/rest/1.0/
 file/get/967790266?profile=original
ATTENDEE;ROLE=REQ-PARTICIPANT;PARTSTAT=ACCEPTED;RSVP=TRUE;CN="Anthony 
 Hopkins":https://www.southeastwheelsevents.com/profile/AnthonyHopkins
END:VEVENT
END:VCALENDAR
