BEGIN:VCALENDAR
PRODID:NingEventWidget-v1
VERSION:2.0
METHOD:PUBLISH
BEGIN:VTIMEZONE
TZID:Pacific/Midway
X-LIC-LOCATION:Pacific/Midway
BEGIN:STANDARD
TZOFFSETFROM:-1100
TZOFFSETTO:-1100
TZNAME:SST
DTSTART:19700101T000000
END:STANDARD
END:VTIMEZONE
BEGIN:VEVENT
UID:5072275:Event:1096530
DTSTAMP:20260423T053236Z
SUMMARY:Nostalgic Station Cruise In - Lauren, Sc
DESCRIPTION:ALL VEHICLES ARE WELCOME 1930 GAS STATION FIRST FRIDAY EAC
 H MONTH YEAR ROUND 50 MUSIC AND FOOD WE ALSO HAVE A PHOTO SHOOT IF YO
 U WANT\n\nFor more information visit https://www.southeastwheelsevents
 .com/events/nostalgic-station-cruise-in-lauren-sc-4
DTSTART;TZID=Pacific/Midway:20181207T180000
DTEND;TZID=Pacific/Midway:20181207T220000
CATEGORIES:car, show, cruise, in
LOCATION:Nostalgic Station,
WEBSITE:https://www.google.co.in/maps/place/nostalgic+station/@34.4967
 309,-82.0439337,17z/data=!3m1!4b1!4m5!3m4!1s0x8857f1e1c187cbb5:0xd1ae4
 be68e519718!8m2!3d34.4967309!4d-82.041745
URL:https://www.google.co.in/maps/place/nostalgic+station/@34.4967309,
 -82.0439337,17z/data=!3m1!4b1!4m5!3m4!1s0x8857f1e1c187cbb5:0xd1ae4be68
 e519718!8m2!3d34.4967309!4d-82.041745
CONTACT:864-984-0527
ORGANIZER:
ATTACH;FMTTYPE="image/jpeg":http://storage.ning.com/topology/rest/1.0/
 file/get/967790266?profile=original
ATTENDEE;ROLE=REQ-PARTICIPANT;PARTSTAT=ACCEPTED;RSVP=TRUE;CN="Anthony 
 Hopkins":https://www.southeastwheelsevents.com/profile/AnthonyHopkins
END:VEVENT
END:VCALENDAR
