BEGIN:VCALENDAR
PRODID:NingEventWidget-v1
VERSION:2.0
METHOD:PUBLISH
BEGIN:VTIMEZONE
TZID:Pacific/Midway
X-LIC-LOCATION:Pacific/Midway
BEGIN:STANDARD
TZOFFSETFROM:-1100
TZOFFSETTO:-1100
TZNAME:SST
DTSTART:19700101T000000
END:STANDARD
END:VTIMEZONE
BEGIN:VEVENT
UID:5072275:Event:734963
DTSTAMP:20260422T224747Z
SUMMARY:Ocala Car & Motorcycle Swap Meet -Ocala, FL
DESCRIPTION:Come on out Saturday March 8th for our Car and Motorcycle 
 Swap Meet at the Ocala Drive-In Theatre in Ocala, Florida. We host thi
 s event the 2nd Saturday of every month. Our vendors offer cars and mo
 torcycles, parts and accessories. leather goods, jewelry, glass etchin
 g, tattoo's, and much, much, more.\nWe started this NEW event a few mo
 nths ago and it is growing more every month!!! Come on out and SUPPORT
  our event. Vendor spaces available for $10. Pay when you get here. Ga
 te opens at 7 am.\n\nFor more information visit https://www.southeastw
 heelsevents.com/events/ocala-car-motorcycle-swap-meet
DTSTART;TZID=Pacific/Midway:20140308T080000
DTEND;TZID=Pacific/Midway:20140308T140000
CATEGORIES:swap, meet
LOCATION:Ocala Drive-In Theatre
WEBSITE:http://www.facebook.com/OcalaMotorcycleSwapMeet
URL:http://www.facebook.com/OcalaMotorcycleSwapMeet
CONTACT:352-470-7352
ORGANIZER;CN="Diane Gracely":https://www.southeastwheelsevents.com/pro
 file/DianeGracely
ATTACH;FMTTYPE="image/jpeg":http://storage.ning.com/topology/rest/1.0/
 file/get/967651216?profile=original
ATTENDEE;ROLE=REQ-PARTICIPANT;PARTSTAT=ACCEPTED;RSVP=TRUE;CN="Diane Gr
 acely":https://www.southeastwheelsevents.com/profile/DianeGracely
END:VEVENT
END:VCALENDAR
