BEGIN:VCALENDAR
PRODID:NingEventWidget-v1
VERSION:2.0
METHOD:PUBLISH
BEGIN:VTIMEZONE
TZID:Pacific/Midway
X-LIC-LOCATION:Pacific/Midway
BEGIN:STANDARD
TZOFFSETFROM:-1100
TZOFFSETTO:-1100
TZNAME:SST
DTSTART:19700101T000000
END:STANDARD
END:VTIMEZONE
BEGIN:VEVENT
UID:5072275:Event:756410
DTSTAMP:20260422T004543Z
SUMMARY:Ocala Motorcycle & Car Swap Meet in Ocala, FL
DESCRIPTION:The 2nd Saturday of every month at the Ocala Drive-In Thea
 tre on Pine Ave (441) in Ocala, Florida. Starts at 8 am - 2 pm RAIN or
  SHINE. Vendors welcome at $10 per space. (No food vendors please) Gat
 es open at 7 am for vendor set up. Pay the morning of, no reservations
  needed. Free admission to the public.\n\nFor more information visit h
 ttps://www.southeastwheelsevents.com/events/ocala-motorcycle-car-swap-
 meet-in-ocala-fl-3
DTSTART;TZID=Pacific/Midway:20140712T080000
DTEND;TZID=Pacific/Midway:20140712T140000
CATEGORIES:swap, meet
LOCATION:Ocala Drive-In Theatre
WEBSITE:http://www.facebook.com/OcalaMotorcycleSwapMeet
URL:http://www.facebook.com/OcalaMotorcycleSwapMeet
CONTACT:352-470-7352
ORGANIZER;CN="Diane Gracely":https://www.southeastwheelsevents.com/pro
 file/DianeGracely
ATTACH;FMTTYPE="image/jpeg":http://storage.ning.com/topology/rest/1.0/
 file/get/967653639?profile=original
ATTENDEE;ROLE=REQ-PARTICIPANT;PARTSTAT=ACCEPTED;RSVP=TRUE;CN="Diane Gr
 acely":https://www.southeastwheelsevents.com/profile/DianeGracely
END:VEVENT
END:VCALENDAR
