BEGIN:VCALENDAR
PRODID:NingEventWidget-v1
VERSION:2.0
METHOD:PUBLISH
BEGIN:VTIMEZONE
TZID:Pacific/Midway
X-LIC-LOCATION:Pacific/Midway
BEGIN:STANDARD
TZOFFSETFROM:-1100
TZOFFSETTO:-1100
TZNAME:SST
DTSTART:19700101T000000
END:STANDARD
END:VTIMEZONE
BEGIN:VEVENT
UID:5072275:Event:541434
DTSTAMP:20260421T101922Z
SUMMARY:October Mini-Fest -Willacoochee, GA
DESCRIPTION:Poker Run to run to help The Rosie Foundation!\nTimeline: 
 1pm start registration and grilling 3pm end registration  6pm End Poke
 r Run  7pm award prizes and start DJ 12 pm end event and settle down  
  We will be selling food, offering free camping and rides home for loc
 als, selling T-shirts, cakes, glow light accessories and other items.\
 n\nFor more information visit https://www.southeastwheelsevents.com/ev
 ents/october-mini-fest
DTSTART;TZID=Pacific/Midway:20121027T130000
DTEND;TZID=Pacific/Midway:20121028T120000
CATEGORIES:poker, run, "/", fundraiser
LOCATION:Pioneer PArk
WEBSITE:http://therosiefoundation.com/Events.html
URL:http://therosiefoundation.com/Events.html
CONTACT:229-457-0039
ORGANIZER;CN="Charol Loper":https://www.southeastwheelsevents.com/prof
 ile/CharolLoper
ATTACH;FMTTYPE="image/jpeg":
ATTENDEE;ROLE=REQ-PARTICIPANT;PARTSTAT=ACCEPTED;RSVP=TRUE;CN="Charol L
 oper":https://www.southeastwheelsevents.com/profile/CharolLoper
END:VEVENT
END:VCALENDAR
