BEGIN:VCALENDAR
PRODID:NingEventWidget-v1
VERSION:2.0
METHOD:PUBLISH
BEGIN:VTIMEZONE
TZID:Pacific/Midway
X-LIC-LOCATION:Pacific/Midway
BEGIN:STANDARD
TZOFFSETFROM:-1100
TZOFFSETTO:-1100
TZNAME:SST
DTSTART:19700101T000000
END:STANDARD
END:VTIMEZONE
BEGIN:VEVENT
UID:5072275:Event:1068041
DTSTAMP:20260422T202146Z
SUMMARY:October Thunder
DESCRIPTION:Guys the event is 2 days away and it looks like it's gonna
  be everything we hope and more. It looks like the swap meet will be g
 reat this year as well and there some very interesting cars and bikes 
 coming. We will have some vintage bikes on display from a privet colle
 ction, Danny (The Count) from Counts Kustom sent us a couple cool Door
  Prizes to give away as well other companies we do business with. The 
 event has been shared more times than I can count and I'd like to than
 k everyone who's taken the time to share it. Guys when you live a ble
 ssed life it's good to give back when you can. I have that life and gi
 ving back when we can is very important to us at Godfather StreetRodz 
 so thank you all for helping get October Thunder out there. Keep it go
 ing and keep sharing as many times as you want and come on out Saturda
 y Gate will open at 6:00 am for swap meet set up and the event will be
  from 9 am - 6 pm or til the last ride rolls out the gate no matter ho
 w late. Help us raise every penny we can for a very good cause. Thank 
 you again. See you in a couple days.\n\nFor more information visit htt
 ps://www.southeastwheelsevents.com/events/october-thunder
DTSTART;TZID=Pacific/Midway:20171007T060000
DTEND;TZID=Pacific/Midway:20171007T180000
CATEGORIES:fundraiser
LOCATION:Godfather StreetRodz
WEBSITE:http://Godfatherstreetrodz.com
URL:http://Godfatherstreetrodz.com
CONTACT:(205) 861-7036
ORGANIZER;CN="Larry Box":https://www.southeastwheelsevents.com/profile
 /LarryBox
ATTACH;FMTTYPE="image/jpeg":http://storage.ning.com/topology/rest/1.0/
 file/get/967754806?profile=original
ATTENDEE;ROLE=REQ-PARTICIPANT;PARTSTAT=ACCEPTED;RSVP=TRUE;CN="Larry Bo
 x":https://www.southeastwheelsevents.com/profile/LarryBox
END:VEVENT
END:VCALENDAR
