BEGIN:VCALENDAR
PRODID:NingEventWidget-v1
VERSION:2.0
METHOD:PUBLISH
BEGIN:VTIMEZONE
TZID:Pacific/Midway
X-LIC-LOCATION:Pacific/Midway
BEGIN:STANDARD
TZOFFSETFROM:-1100
TZOFFSETTO:-1100
TZNAME:SST
DTSTART:19700101T000000
END:STANDARD
END:VTIMEZONE
BEGIN:VEVENT
UID:5072275:Event:937003
DTSTAMP:20260423T162542Z
SUMMARY:Oktoberfest Antique Car Show, Lebanon, TN
DESCRIPTION:One of Middle Tennessee's Largest Antique Car Shows.\nRegi
 stration from 9:00 a.m till 12:00 p.m day of show - $15.00.\n56 Class
 es, three trophies awarded in each class.  Dash plaques and T-shirts 
 to the first 500 entries.\nTrophies awarded at 3:30 p.m.\n \n\nFor mo
 re information visit https://www.southeastwheelsevents.com/events/okto
 berfest-antique-car-show-lebanon-tn-1
DTSTART;TZID=Pacific/Midway:20151018T090000
DTEND;TZID=Pacific/Midway:20151018T153000
CATEGORIES:antiquest, car, show
LOCATION:Wilson Bank and Trust
WEBSITE:https://cms.bancvue.com/custom/fi/wilsonbank/fb/disclosure/Okt
 oberfest_CarShow.pdf
URL:https://cms.bancvue.com/custom/fi/wilsonbank/fb/disclosure/Oktober
 fest_CarShow.pdf
CONTACT:615-443-6509
ORGANIZER;CN="Larry Squires":https://www.southeastwheelsevents.com/pro
 file/LarrySquires
ATTACH;FMTTYPE="image/jpeg":http://storage.ning.com/topology/rest/1.0/
 file/get/967697932?profile=original
ATTENDEE;ROLE=REQ-PARTICIPANT;PARTSTAT=ACCEPTED;RSVP=TRUE;CN="Larry Sq
 uires":https://www.southeastwheelsevents.com/profile/LarrySquires
END:VEVENT
END:VCALENDAR
