BEGIN:VCALENDAR
PRODID:NingEventWidget-v1
VERSION:2.0
METHOD:PUBLISH
BEGIN:VTIMEZONE
TZID:Pacific/Midway
X-LIC-LOCATION:Pacific/Midway
BEGIN:STANDARD
TZOFFSETFROM:-1100
TZOFFSETTO:-1100
TZNAME:SST
DTSTART:19700101T000000
END:STANDARD
END:VTIMEZONE
BEGIN:VEVENT
UID:5072275:Event:1195982
DTSTAMP:20260424T024630Z
SUMMARY:Old Car Cruise In - Dunedin, Fl
DESCRIPTION:This show is organized each Saturday. Assuming the raincl
 ouds blow over.\n\nFor more information visit https://www.southeastwhe
 elsevents.com/events/old-car-cruise-in-dunedin-fl-2
DTSTART;TZID=Pacific/Midway:20201017T170000
DTEND;TZID=Pacific/Midway:20201017T200000
CATEGORIES:car, show, cruise-in
LOCATION:McDonald's Dunedin,
WEBSITE:https://www.google.com/maps/place/McDonald&amp;amp;amp;amp;amp
 ;amp;amp;amp;amp;amp;amp;amp;amp;amp;amp;amp;amp;amp;#039;s/@28.019083
 1,-82.7608266,17z/data=!3m1!4b1!4m5!3m4!1s0x88c2f221a67f18cd:0xc3809bc
 64cbf1ebd!8m2!3d28.0190784!4d-82.7586379
URL:https://www.google.com/maps/place/McDonald&amp;amp;amp;amp;amp;amp
 ;amp;amp;amp;amp;amp;amp;amp;amp;amp;amp;amp;amp;#039;s/@28.0190831,-8
 2.7608266,17z/data=!3m1!4b1!4m5!3m4!1s0x88c2f221a67f18cd:0xc3809bc64cb
 f1ebd!8m2!3d28.0190784!4d-82.7586379
CONTACT:cgroode@yahoo.com
ORGANIZER:
ATTACH;FMTTYPE="image/jpeg":https://storage.ning.com/topology/rest/1.0
 /file/get/833479952?profile=original
ATTENDEE;ROLE=REQ-PARTICIPANT;PARTSTAT=ACCEPTED;RSVP=TRUE;CN="Anthony 
 Hopkins":https://www.southeastwheelsevents.com/profile/AnthonyHopkins
END:VEVENT
END:VCALENDAR
