BEGIN:VCALENDAR
PRODID:NingEventWidget-v1
VERSION:2.0
METHOD:PUBLISH
BEGIN:VTIMEZONE
TZID:Pacific/Midway
X-LIC-LOCATION:Pacific/Midway
BEGIN:STANDARD
TZOFFSETFROM:-1100
TZOFFSETTO:-1100
TZNAME:SST
DTSTART:19700101T000000
END:STANDARD
END:VTIMEZONE
BEGIN:VEVENT
UID:5072275:Event:862099
DTSTAMP:20260423T020221Z
SUMMARY:Old Car Drop In -Columbia, SC
DESCRIPTION:\r\n\r\n\r\n\r\n\r\n\r\n\r\n\r\n\r\n** WE WILL HAVE YOUR F
 AVORITE MUSIC FROM THE 50s, 60s, and 70s**\r\n**DASH PLAQUES TO BE GIV
 EN TO THE FIRST 75 REGISTERED VEHICLES**\r\n** DOOR PRIZES, 50/25-25 C
 ASH DRAWING**\r\n** THOPHIES-WILL BE AWARDED TO THE BEST OF FORD, GM, 
 MOPAR, TRUCK, STREET ROD, MANAGER’S CHOICE, & LADIES’ CHOICE**\r\n
 *** THERE WILL BE ABSOLUTELY NO ALCOHOLIC BEVERAGES ALLOWED IN THE PAR
 KING LOT!!!    THIS IS A FAMILY AFFAIR.**\r\n \r\n\r\n\r\n\r\n\r\n
 \r\n\r\n\r\n\r\n\r\n\r\n\r\n\r\n\r\n\r\n\r\n\r\n\r\n\r\n\r\n\r\n\r\n\r
 \n\r\n\r\n\r\n\r\n\r\n\r\n\n\nFor more information visit https://www.s
 outheastwheelsevents.com/events/old-car-drop-in-1
DTSTART;TZID=Pacific/Midway:20170826T150000
DTEND;TZID=Pacific/Midway:20170826T190000
CATEGORIES:car, show
LOCATION:Fuddruckers in Columbia SC
WEBSITE:
URL:
CONTACT:Joyce &amp; Mike 803-957-9737
ORGANIZER;CN="barry taylor":https://www.southeastwheelsevents.com/prof
 ile/barrytaylor
ATTACH;FMTTYPE="image/jpeg":http://storage.ning.com/topology/rest/1.0/
 file/get/967679345?profile=original
ATTENDEE;ROLE=REQ-PARTICIPANT;PARTSTAT=ACCEPTED;RSVP=TRUE;CN="Chuck Aa
 ron":https://www.southeastwheelsevents.com/profile/ChuckAaron886
ATTENDEE;ROLE=REQ-PARTICIPANT;PARTSTAT=ACCEPTED;RSVP=TRUE;CN="barry ta
 ylor":https://www.southeastwheelsevents.com/profile/barrytaylor
ATTENDEE;ROLE=REQ-PARTICIPANT;PARTSTAT=ACCEPTED;RSVP=TRUE;CN="Chuck Aa
 ron":https://www.southeastwheelsevents.com/profile/ChuckAaron
ATTENDEE;ROLE=REQ-PARTICIPANT;PARTSTAT=ACCEPTED;RSVP=TRUE;CN="Michael 
 Thies":https://www.southeastwheelsevents.com/profile/MichaelThies
END:VEVENT
END:VCALENDAR
