BEGIN:VCALENDAR
PRODID:NingEventWidget-v1
VERSION:2.0
METHOD:PUBLISH
BEGIN:VTIMEZONE
TZID:Pacific/Midway
X-LIC-LOCATION:Pacific/Midway
BEGIN:STANDARD
TZOFFSETFROM:-1100
TZOFFSETTO:-1100
TZNAME:SST
DTSTART:19700101T000000
END:STANDARD
END:VTIMEZONE
BEGIN:VEVENT
UID:5072275:Event:1196503
DTSTAMP:20260420T091203Z
SUMMARY:Old Car Show - Clearwater, Fl
DESCRIPTION:This car show is organized each month on the first Saturda
 y.\n\nFor more information visit https://www.southeastwheelsevents.com
 /events/old-car-show-clearwater-fl-3
DTSTART;TZID=Pacific/Midway:20200704T170000
DTEND;TZID=Pacific/Midway:20200704T210000
CATEGORIES:car, show, cruise-in, antique, "cars.", vintage, classic, c
 ars
LOCATION:Quaker Steak and Lube,
WEBSITE:https://facebook.com/events/s/nightshow-5-9quaker-opentoallm/2
 796698350428771/?ti=cl
URL:https://facebook.com/events/s/nightshow-5-9quaker-opentoallm/27966
 98350428771/?ti=cl
CONTACT:(813) 506-4225; angelacleaning3@gmail.com
ORGANIZER:Angela Recchia
ATTACH;FMTTYPE="image/jpeg":https://storage.ning.com/topology/rest/1.0
 /file/get/833625167?profile=original
ATTENDEE;ROLE=REQ-PARTICIPANT;PARTSTAT=ACCEPTED;RSVP=TRUE;CN="Anthony 
 Hopkins":https://www.southeastwheelsevents.com/profile/AnthonyHopkins
END:VEVENT
END:VCALENDAR
