BEGIN:VCALENDAR
PRODID:NingEventWidget-v1
VERSION:2.0
METHOD:PUBLISH
BEGIN:VTIMEZONE
TZID:Pacific/Midway
X-LIC-LOCATION:Pacific/Midway
BEGIN:STANDARD
TZOFFSETFROM:-1100
TZOFFSETTO:-1100
TZNAME:SST
DTSTART:19700101T000000
END:STANDARD
END:VTIMEZONE
BEGIN:VEVENT
UID:5072275:Event:1193777
DTSTAMP:20260424T144222Z
SUMMARY:Old Car Show - Kissimmee, Fl
DESCRIPTION:This classic car show is organized every Wednesday. The 
 show displays a distinct variety of cars and trucks. It is free t
 o participate and registration is free.\n\nFor more information visit 
 https://www.southeastwheelsevents.com/events/old-car-show-kissimmee-fl
 -10
DTSTART;TZID=Pacific/Midway:20200527T180000
DTEND;TZID=Pacific/Midway:20200527T210000
CATEGORIES:car, show, cruise-in
LOCATION:Old Town,
WEBSITE:http://t.ly/86510
URL:http://t.ly/86510
CONTACT:(407) 396-4888
ORGANIZER:
ATTACH;FMTTYPE="image/jpeg":https://storage.ning.com/topology/rest/1.0
 /file/get/3817484162?profile=original
ATTENDEE;ROLE=REQ-PARTICIPANT;PARTSTAT=ACCEPTED;RSVP=TRUE;CN="Anthony 
 Hopkins":https://www.southeastwheelsevents.com/profile/AnthonyHopkins
END:VEVENT
END:VCALENDAR
