BEGIN:VCALENDAR
PRODID:NingEventWidget-v1
VERSION:2.0
METHOD:PUBLISH
BEGIN:VTIMEZONE
TZID:Pacific/Midway
X-LIC-LOCATION:Pacific/Midway
BEGIN:STANDARD
TZOFFSETFROM:-1100
TZOFFSETTO:-1100
TZNAME:SST
DTSTART:19700101T000000
END:STANDARD
END:VTIMEZONE
BEGIN:VEVENT
UID:5072275:Event:1198252
DTSTAMP:20260423T143805Z
SUMMARY:Old Car Show - Lake Mary, Fl
DESCRIPTION:This car show is organized each month on the last Saturday
 .\n\nFor more information visit https://www.southeastwheelsevents.com/
 events/old-car-show-lake-mary-fl-2
DTSTART;TZID=Pacific/Midway:20201226T090000
DTEND;TZID=Pacific/Midway:20201226T120000
CATEGORIES:car, show, cruise-in, antique, "cars.", vintage, classic, c
 ars
LOCATION:Gateway Classic Cars,
WEBSITE:http://www.gatewayclassiccars.com/cars-and-coffee
URL:http://www.gatewayclassiccars.com/cars-and-coffee
CONTACT:(407) 771-2000; orlando@gatewayclassiccars.com
ORGANIZER:
ATTACH;FMTTYPE="image/jpeg":https://storage.ning.com/topology/rest/1.0
 /file/get/3817484162?profile=original
ATTENDEE;ROLE=REQ-PARTICIPANT;PARTSTAT=ACCEPTED;RSVP=TRUE;CN="Anthony 
 Hopkins":https://www.southeastwheelsevents.com/profile/AnthonyHopkins
END:VEVENT
END:VCALENDAR
