BEGIN:VCALENDAR
PRODID:NingEventWidget-v1
VERSION:2.0
METHOD:PUBLISH
BEGIN:VTIMEZONE
TZID:Pacific/Midway
X-LIC-LOCATION:Pacific/Midway
BEGIN:STANDARD
TZOFFSETFROM:-1100
TZOFFSETTO:-1100
TZNAME:SST
DTSTART:19700101T000000
END:STANDARD
END:VTIMEZONE
BEGIN:VEVENT
UID:5072275:Event:1194581
DTSTAMP:20260420T191810Z
SUMMARY:Old Car Show - Sarasota, Fl
DESCRIPTION:This show is organized each month on the Third Saturday at
  Sarasota Classic Car Museum.\n\n\nFor more information visit https://
 www.southeastwheelsevents.com/events/old-car-show-sarasota-fl-6
DTSTART;TZID=Pacific/Midway:20210116T100000
DTEND;TZID=Pacific/Midway:20210116T140000
CATEGORIES:car, show, cruise-in
LOCATION:Sarasota Classic Car Museum,
WEBSITE:https://www.facebook.com/Lances-Cruzin-to-the-Hp-3410549025813
 36/
URL:https://www.facebook.com/Lances-Cruzin-to-the-Hp-341054902581336/
CONTACT:(941) 371-1061 ; CollectorCarsTV@gmail.com
ORGANIZER:
ATTACH;FMTTYPE="image/jpeg":https://storage.ning.com/topology/rest/1.0
 /file/get/832717614?profile=original
ATTENDEE;ROLE=REQ-PARTICIPANT;PARTSTAT=ACCEPTED;RSVP=TRUE;CN="Anthony 
 Hopkins":https://www.southeastwheelsevents.com/profile/AnthonyHopkins
END:VEVENT
END:VCALENDAR
