BEGIN:VCALENDAR
PRODID:NingEventWidget-v1
VERSION:2.0
METHOD:PUBLISH
BEGIN:VTIMEZONE
TZID:Pacific/Midway
X-LIC-LOCATION:Pacific/Midway
BEGIN:STANDARD
TZOFFSETFROM:-1100
TZOFFSETTO:-1100
TZNAME:SST
DTSTART:19700101T000000
END:STANDARD
END:VTIMEZONE
BEGIN:VEVENT
UID:5072275:Event:1187615
DTSTAMP:20260420T141642Z
SUMMARY:Old Car Show - St Petersburg, Fl
DESCRIPTION:This show is organized each month on the first Friday at B
 iff's-Burger and Buff's BBQ.\n\nFor more information visit https://www
 .southeastwheelsevents.com/events/old-car-show-st-petersburg-fl-1
DTSTART;TZID=Pacific/Midway:20200403T170000
DTEND;TZID=Pacific/Midway:20200403T230000
CATEGORIES:car, show, cruise-in
LOCATION:Biff's-Burger and Buff's BBQ,
WEBSITE:http://www.biffburgers.com/CruiseIn.htm
URL:http://www.biffburgers.com/CruiseIn.htm
CONTACT:(727) 527-5297
ORGANIZER:
ATTACH;FMTTYPE="image/jpeg":https://storage.ning.com/topology/rest/1.0
 /file/get/3817603437?profile=original
ATTENDEE;ROLE=REQ-PARTICIPANT;PARTSTAT=ACCEPTED;RSVP=TRUE;CN="Anthony 
 Hopkins":https://www.southeastwheelsevents.com/profile/AnthonyHopkins
END:VEVENT
END:VCALENDAR
