BEGIN:VCALENDAR
PRODID:NingEventWidget-v1
VERSION:2.0
METHOD:PUBLISH
BEGIN:VTIMEZONE
TZID:Pacific/Midway
X-LIC-LOCATION:Pacific/Midway
BEGIN:STANDARD
TZOFFSETFROM:-1100
TZOFFSETTO:-1100
TZNAME:SST
DTSTART:19700101T000000
END:STANDARD
END:VTIMEZONE
BEGIN:VEVENT
UID:5072275:Event:1180262
DTSTAMP:20260419T050301Z
SUMMARY:Old Dixie Car Show - Ochlocknee, Ga
DESCRIPTION:Old Dixie Car Show.\n\nFor more information visit https://
 www.southeastwheelsevents.com/events/old-dixie-car-show-ochlocknee-ga
DTSTART;TZID=Pacific/Midway:20191109T090000
DTEND;TZID=Pacific/Midway:20191109T140000
CATEGORIES:car, show, cruise-in
LOCATION:Ochlocknee, Ga
WEBSITE:https://www.google.com/maps?q=5020+Spence+Street,+Ochlocknee,+
 Ga&amp;amp;amp;amp;um=1&amp;amp;amp;amp;ie=UTF-8&amp;amp;amp;amp;sa=X&
 amp;amp;amp;amp;ved=0ahUKEwjSwILA_NjlAhXSmeYKHfIjBqcQ_AUIEigB
URL:https://www.google.com/maps?q=5020+Spence+Street,+Ochlocknee,+Ga&a
 mp;amp;amp;amp;um=1&amp;amp;amp;amp;ie=UTF-8&amp;amp;amp;amp;sa=X&amp;
 amp;amp;amp;ved=0ahUKEwjSwILA_NjlAhXSmeYKHfIjBqcQ_AUIEigB
CONTACT:229-224-2234
ORGANIZER:Elizabeth Maddox
ATTACH;FMTTYPE="image/jpeg":https://storage.ning.com/topology/rest/1.0
 /file/get/1158870267?profile=original
ATTENDEE;ROLE=REQ-PARTICIPANT;PARTSTAT=ACCEPTED;RSVP=TRUE;CN="Anthony 
 Hopkins":https://www.southeastwheelsevents.com/profile/AnthonyHopkins
END:VEVENT
END:VCALENDAR
