BEGIN:VCALENDAR
PRODID:NingEventWidget-v1
VERSION:2.0
METHOD:PUBLISH
BEGIN:VTIMEZONE
TZID:Pacific/Midway
X-LIC-LOCATION:Pacific/Midway
BEGIN:STANDARD
TZOFFSETFROM:-1100
TZOFFSETTO:-1100
TZNAME:SST
DTSTART:19700101T000000
END:STANDARD
END:VTIMEZONE
BEGIN:VEVENT
UID:5072275:Event:828037
DTSTAMP:20260422T231503Z
SUMMARY:Ole Skool Cruizers Annual Car, Truck, & Bike Show -Savannah, G
 a
DESCRIPTION:Old Skool Cruisers Annual Car, Truck, & Bike Show -Savanna
 h, Ga\n\n \n\nFor more information visit https://www.southeastwheelse
 vents.com/events/old-skool-cruisers-annual-car-truck-bike-show-savanna
 h-ga
DTSTART;TZID=Pacific/Midway:20150912T080000
DTEND;TZID=Pacific/Midway:20150912T160000
CATEGORIES:car, truck, "&", bike, show
LOCATION:National Guard Armory
WEBSITE:http://www.oleskoolcruizers.com
URL:http://www.oleskoolcruizers.com
CONTACT:301-704-9926, 912-713-1399
ORGANIZER:Ole Skool Cruizers
ATTACH;FMTTYPE="image/jpeg":http://storage.ning.com/topology/rest/1.0/
 file/get/967671202?profile=original
ATTENDEE;ROLE=REQ-PARTICIPANT;PARTSTAT=ACCEPTED;RSVP=TRUE;CN="Chuck Aa
 ron":https://www.southeastwheelsevents.com/profile/ChuckAaron
END:VEVENT
END:VCALENDAR
