BEGIN:VCALENDAR
PRODID:NingEventWidget-v1
VERSION:2.0
METHOD:PUBLISH
BEGIN:VTIMEZONE
TZID:Pacific/Midway
X-LIC-LOCATION:Pacific/Midway
BEGIN:STANDARD
TZOFFSETFROM:-1100
TZOFFSETTO:-1100
TZNAME:SST
DTSTART:19700101T000000
END:STANDARD
END:VTIMEZONE
BEGIN:VEVENT
UID:5072275:Event:33025
DTSTAMP:20260421T031117Z
SUMMARY:Old Timers Classic Cruisers Annual Car/Truck/Motorcycle Show -
 Macon, GA
DESCRIPTION:\n\nFor more information visit https://www.southeastwheels
 events.com/events/old-timers-classic-cruisers
DTSTART;TZID=Pacific/Midway:20250726T100000
DTEND;TZID=Pacific/Midway:20250726T143000
CATEGORIES:car, show, fesitval, benefit
LOCATION:North Peach Park
WEBSITE:https://www.facebook.com/events/north-peach-park/old-timers-cl
 assic-cruisers-car-show/1207819560860366/
URL:https://www.facebook.com/events/north-peach-park/old-timers-classi
 c-cruisers-car-show/1207819560860366/
CONTACT:478-256-8892 James (Chip) Jackson
ORGANIZER:
ATTACH;FMTTYPE="image/jpeg":https://storage.ning.com/topology/rest/1.0
 /file/get/12244319491?profile=original
ATTENDEE;ROLE=REQ-PARTICIPANT;PARTSTAT=ACCEPTED;RSVP=TRUE;CN="Tim Stew
 art":https://www.southeastwheelsevents.com/profile/TimStewart
ATTENDEE;ROLE=REQ-PARTICIPANT;PARTSTAT=ACCEPTED;RSVP=TRUE;CN="Jeff Rut
 herford":https://www.southeastwheelsevents.com/profile/JeffreyRutherfo
 rd
ATTENDEE;ROLE=REQ-PARTICIPANT;PARTSTAT=ACCEPTED;RSVP=TRUE;CN="G Barlow
 ":https://www.southeastwheelsevents.com/profile/GBarlow
ATTENDEE;ROLE=REQ-PARTICIPANT;PARTSTAT=ACCEPTED;RSVP=TRUE;CN="Howard G
 raham":https://www.southeastwheelsevents.com/profile/HowardGraham
END:VEVENT
END:VCALENDAR
