BEGIN:VCALENDAR
PRODID:NingEventWidget-v1
VERSION:2.0
METHOD:PUBLISH
BEGIN:VTIMEZONE
TZID:Pacific/Midway
X-LIC-LOCATION:Pacific/Midway
BEGIN:STANDARD
TZOFFSETFROM:-1100
TZOFFSETTO:-1100
TZNAME:SST
DTSTART:19700101T000000
END:STANDARD
END:VTIMEZONE
BEGIN:VEVENT
UID:5072275:Event:1031228
DTSTAMP:20260424T015919Z
SUMMARY:Old Town HOG Chapter Meeting
DESCRIPTION:Old Town HOG Chapter Meeting at Hilton Garden Inn located 
 at 4328 Garden Vista Dr, Riverview, FL. Social Hour 6:00 pm, Meeting a
 t 7:30pm. Meeting end time may change.\n\nFor more information visit h
 ttps://www.southeastwheelsevents.com/events/old-town-hog-chapter-meeti
 ng
DTSTART;TZID=Pacific/Midway:20170203T180000
DTEND;TZID=Pacific/Midway:20170203T203000
CATEGORIES:motorcycles, "clubs/shows/cruises"
LOCATION:Hilton Garden Inn Tampa/Riverview/Brandon
WEBSITE:http://www.oldtownhog.com/index.php/rides-and-events/calendar
URL:http://www.oldtownhog.com/index.php/rides-and-events/calendar
CONTACT:
ORGANIZER:Old Town HOG
ATTACH;FMTTYPE="image/jpeg":
ATTENDEE;ROLE=REQ-PARTICIPANT;PARTSTAT=ACCEPTED;RSVP=TRUE;CN="Christop
 her Gosney":https://www.southeastwheelsevents.com/profile/ChristopherG
 osney
END:VEVENT
END:VCALENDAR
