BEGIN:VCALENDAR
PRODID:NingEventWidget-v1
VERSION:2.0
METHOD:PUBLISH
BEGIN:VTIMEZONE
TZID:Pacific/Midway
X-LIC-LOCATION:Pacific/Midway
BEGIN:STANDARD
TZOFFSETFROM:-1100
TZOFFSETTO:-1100
TZNAME:SST
DTSTART:19700101T000000
END:STANDARD
END:VTIMEZONE
BEGIN:VEVENT
UID:5072275:Event:17936
DTSTAMP:20260424T014333Z
SUMMARY:Ole School Car Show - Mableton, GA
DESCRIPTION:6th Annual Ole School Car Show - Mableton, GA\n\nFor more 
 information visit https://www.southeastwheelsevents.com/events/ole-sch
 ool-car-show-mableton
DTSTART;TZID=Pacific/Midway:20130518T090000
DTEND;TZID=Pacific/Midway:20130518T180000
CATEGORIES:car-show
LOCATION:Mable House Ampitheater
WEBSITE:http://www.pebblebrookjr.org/CarShow.asp
URL:http://www.pebblebrookjr.org/CarShow.asp
CONTACT:Paul 678-372-2316
ORGANIZER:Old School
ATTACH;FMTTYPE="image/jpeg":http://storage.ning.com/topology/rest/1.0/
 file/get/967574740?profile=original
ATTENDEE;ROLE=REQ-PARTICIPANT;PARTSTAT=ACCEPTED;RSVP=TRUE;CN="Michael 
 Thies":https://www.southeastwheelsevents.com/profile/MichaelThies
END:VEVENT
END:VCALENDAR
