BEGIN:VCALENDAR
PRODID:NingEventWidget-v1
VERSION:2.0
METHOD:PUBLISH
BEGIN:VTIMEZONE
TZID:Pacific/Midway
X-LIC-LOCATION:Pacific/Midway
BEGIN:STANDARD
TZOFFSETFROM:-1100
TZOFFSETTO:-1100
TZNAME:SST
DTSTART:19700101T000000
END:STANDARD
END:VTIMEZONE
BEGIN:VEVENT
UID:5072275:Event:873502
DTSTAMP:20260424T065528Z
SUMMARY:Open Car Show at Alhambra Shrine -Chattanooga, TN
DESCRIPTION:\n\nFor more information visit https://www.southeastwheels
 events.com/events/open-car-show-at-alhambra-shrine-chattanooga-tn
DTSTART;TZID=Pacific/Midway:20150321T100000
DTEND;TZID=Pacific/Midway:20150321T160000
CATEGORIES:car, show
LOCATION:Alhambra Shrine Temple
WEBSITE:http://www.alhambrashrine.com/
URL:http://www.alhambrashrine.com/
CONTACT:(423) 892-0223, 423-405-4162
ORGANIZER:Alhambra Shrine Temple
ATTACH;FMTTYPE="image/jpeg":http://storage.ning.com/topology/rest/1.0/
 file/get/967681047?profile=original
ATTENDEE;ROLE=REQ-PARTICIPANT;PARTSTAT=ACCEPTED;RSVP=TRUE;CN="Chuck Aa
 ron":https://www.southeastwheelsevents.com/profile/ChuckAaron
END:VEVENT
END:VCALENDAR
