BEGIN:VCALENDAR
PRODID:NingEventWidget-v1
VERSION:2.0
METHOD:PUBLISH
BEGIN:VTIMEZONE
TZID:Pacific/Midway
X-LIC-LOCATION:Pacific/Midway
BEGIN:STANDARD
TZOFFSETFROM:-1100
TZOFFSETTO:-1100
TZNAME:SST
DTSTART:19700101T000000
END:STANDARD
END:VTIMEZONE
BEGIN:VEVENT
UID:5072275:Event:216815
DTSTAMP:20260420T070525Z
SUMMARY:Open Car Show -Dallas, GA
DESCRIPTION:Dallas Dodge Car Show\nOpen to all Makes, Models & Years\n
 Popular Choice Awards - Door Prizes\nFree Event T-Shirt & Dash Plaque*
 \n50/50 Raffle - Food & Refreshments\nEntry Fee:  A Donation to the N
 GMC Charities\nKids Activities - A Family Friendly Event\n*Limit one p
 er registered show car\nFor more information see our website:  www.no
 rthgeorgiamoparclub.com\n \n\nFor more information visit https://www.
 southeastwheelsevents.com/events/open-car-show-dallas-ga
DTSTART;TZID=Pacific/Midway:20110618T100000
DTEND;TZID=Pacific/Midway:20110618T140000
CATEGORIES:open, car, show
LOCATION:Dallas Dodge Chrysler Jeep Ram
WEBSITE:http://www.dallasdodge.com
URL:http://www.dallasdodge.com
CONTACT:
ORGANIZER:North Georgia Mopar Club
ATTACH;FMTTYPE="image/jpeg":http://storage.ning.com/topology/rest/1.0/
 file/get/967589679?profile=original
ATTENDEE;ROLE=REQ-PARTICIPANT;PARTSTAT=ACCEPTED;RSVP=TRUE;CN="John Cud
 a":https://www.southeastwheelsevents.com/profile/Johnwintersgill
ATTENDEE;ROLE=REQ-PARTICIPANT;PARTSTAT=ACCEPTED;RSVP=TRUE;CN="Don Grin
 er":https://www.southeastwheelsevents.com/profile/DonGriner
ATTENDEE;ROLE=REQ-PARTICIPANT;PARTSTAT=ACCEPTED;RSVP=TRUE;CN=Linda:htt
 ps://www.southeastwheelsevents.com/profile/Linda
ATTENDEE;ROLE=REQ-PARTICIPANT;PARTSTAT=TENTATIVE;RSVP=TRUE;CN="JP Brad
 y":https://www.southeastwheelsevents.com/profile/jpbrady
ATTENDEE;ROLE=REQ-PARTICIPANT;PARTSTAT=TENTATIVE;RSVP=TRUE;CN="John H.
  Price":https://www.southeastwheelsevents.com/profile/JohnHPrice
ATTENDEE;ROLE=REQ-PARTICIPANT;PARTSTAT=TENTATIVE;RSVP=TRUE;CN="JOANN F
 OSKEY":https://www.southeastwheelsevents.com/profile/JOANNFOSKEY
END:VEVENT
END:VCALENDAR
