BEGIN:VCALENDAR
PRODID:NingEventWidget-v1
VERSION:2.0
METHOD:PUBLISH
BEGIN:VTIMEZONE
TZID:Pacific/Midway
X-LIC-LOCATION:Pacific/Midway
BEGIN:STANDARD
TZOFFSETFROM:-1100
TZOFFSETTO:-1100
TZNAME:SST
DTSTART:19700101T000000
END:STANDARD
END:VTIMEZONE
BEGIN:VEVENT
UID:5072275:Event:684306
DTSTAMP:20260424T162525Z
SUMMARY:Open Car Show -Warrior, AL
DESCRIPTION:Heart of Dixie Chevelle Club's 12th Annual Open Car Show 
 -Warrior, AL\n\nFor more information visit https://www.southeastwheels
 events.com/events/open-car-show-warrior-al
DTSTART;TZID=Pacific/Midway:20130817T080000
DTEND;TZID=Pacific/Midway:20130817T150000
CATEGORIES:car, show
LOCATION:Dewey Barber Chevrolet
WEBSITE:http://www.chevelle-ss.com
URL:http://www.chevelle-ss.com
CONTACT:256-839-6995
ORGANIZER:Heart of Dixie Chevelle Club
ATTACH;FMTTYPE="image/jpeg":http://storage.ning.com/topology/rest/1.0/
 file/get/967647249?profile=original
ATTENDEE;ROLE=REQ-PARTICIPANT;PARTSTAT=ACCEPTED;RSVP=TRUE;CN="Jack Tho
 mas":https://www.southeastwheelsevents.com/profile/JackThomas
END:VEVENT
END:VCALENDAR
