BEGIN:VCALENDAR
PRODID:NingEventWidget-v1
VERSION:2.0
METHOD:PUBLISH
BEGIN:VTIMEZONE
TZID:Pacific/Midway
X-LIC-LOCATION:Pacific/Midway
BEGIN:STANDARD
TZOFFSETFROM:-1100
TZOFFSETTO:-1100
TZNAME:SST
DTSTART:19700101T000000
END:STANDARD
END:VTIMEZONE
BEGIN:VEVENT
UID:5072275:Event:819219
DTSTAMP:20260423T134453Z
SUMMARY:Open Car Show -Byron, GA
DESCRIPTION:Registration 9-1130.  Judging 12-3.  Entry $25.00\nTop 3
 0, 10 Best of and Best of Show.\nProceeds to benefit a local Wounded W
 arrior (Griffin Fitzgerald) an Army Vet. of Afghanistan and Iraq.\nSti
 ck around after the awards for the monthly cruise in at the same locat
 ion.\n\nFor more information visit https://www.southeastwheelsevents.c
 om/events/open-car-show
DTSTART;TZID=Pacific/Midway:20140906T090000
DTEND;TZID=Pacific/Midway:20140906T150000
CATEGORIES:open, car, shop
LOCATION:Peach shops at Byron
WEBSITE:
URL:
CONTACT:478-365-1305
ORGANIZER;CN="Charles Heath":https://www.southeastwheelsevents.com/pro
 file/CharlesHeath
ATTACH;FMTTYPE="image/jpeg":http://storage.ning.com/topology/rest/1.0/
 file/get/967667726?profile=original
ATTENDEE;ROLE=REQ-PARTICIPANT;PARTSTAT=ACCEPTED;RSVP=TRUE;CN="Charles 
 Heath":https://www.southeastwheelsevents.com/profile/CharlesHeath
END:VEVENT
END:VCALENDAR
