BEGIN:VCALENDAR
PRODID:NingEventWidget-v1
VERSION:2.0
METHOD:PUBLISH
BEGIN:VTIMEZONE
TZID:Pacific/Midway
X-LIC-LOCATION:Pacific/Midway
BEGIN:STANDARD
TZOFFSETFROM:-1100
TZOFFSETTO:-1100
TZNAME:SST
DTSTART:19700101T000000
END:STANDARD
END:VTIMEZONE
BEGIN:VEVENT
UID:5072275:Event:1230854
DTSTAMP:20260423T035345Z
SUMMARY:Open Cruise In - Marietta, GA
DESCRIPTION:McDonalds Open Cruise In - Any collector car, all welcome.
  No awards!\n\nFor more information visit https://www.southeastwheelse
 vents.com/events/open-cruise-in-marietta-ga-1
DTSTART;TZID=Pacific/Midway:20220122T073000
DTEND;TZID=Pacific/Midway:20220122T103000
CATEGORIES:car, show, cruise, in
LOCATION:McDonalds
WEBSITE:
URL:
CONTACT:770-355-7579
ORGANIZER:Stan Olstein
ATTACH;FMTTYPE="image/jpeg":http://storage.ning.com/topology/rest/1.0/
 file/get/967809583?profile=original
ATTENDEE;ROLE=REQ-PARTICIPANT;PARTSTAT=ACCEPTED;RSVP=TRUE;CN="Chuck Aa
 ron":https://www.southeastwheelsevents.com/profile/ChuckAaron886
END:VEVENT
END:VCALENDAR
